BEGIN:VCALENDAR
PRODID:-//Tendenci - The Open Source AMS for Associations//Tendenci Codebase 12 MIMEDIR//EN
VERSION:2.0
METHOD:PUBLISH
BEGIN:VEVENT
DTSTAMP:20260422T213414Z
ORGANIZER:
DTSTART:20220125T063000Z
DTEND:20220125T083000Z
LOCATION:
TRANSP:OPAQUE
SEQUENCE:0
UID:uid237@portal.momsforliberty.org
DESCRIPTION:--- This iCal file does *NOT* confirm registration.\r\nEvent details subject to change. ---\r\nhttps://portal.momsforliberty.org/events/237/\r\n\r\nEvent Title: Fairview School Board Meeting\r\nStart Date / Time: Jan 25, 2022 00:30 AM US/Central\r\nLocation: \r\nREGULAR School Board Meeting for Fairview School District - located at Fairview Middle School--- This iCal file does *NOT* confirm registration.Event details subject to change. ---\r\n\r\n--- By Tendenci - The Open Source AMS for Associations ---\r\n
X-ALT-DESC;FMTTYPE=text/html:<div>--- This iCal file does *NOT* confirm registration.Event details subject to change. ---</div><h1>Event Title: Fairview School Board Meeting</h1><div>https://portal.momsforliberty.org/events/237/</div><br /><div>When: Jan 25, 2022 00:30 AM US/Central</div><br /><div><p>REGULAR School Board Meeting for Fairview School District - located at Fairview Middle School</p></div><div>--- This iCal file does *NOT* confirm registration.Event details subject to change. ---</div><div>--- Tendenci&reg\; Software by <a href="https://www.tendenci.com">tendenci.com</a> - The Open Source AMS for Associations ---</div>
SUMMARY:Fairview School Board Meeting
PRIORITY:5
CLASS:PUBLIC
BEGIN:VALARM
TRIGGER:-PT30M
ACTION:DISPLAY
DESCRIPTION:Reminder
END:VALARM
END:VEVENT
END:VCALENDAR
