BEGIN:VCALENDAR
PRODID:-//Tendenci - The Open Source AMS for Associations//Tendenci Codebase 12 MIMEDIR//EN
VERSION:2.0
METHOD:PUBLISH
BEGIN:VEVENT
DTSTAMP:20260424T201804Z
ORGANIZER:Jen Donnelly
DTSTART:20240423T180000Z
DTEND:20240423T200000Z
LOCATION:TBD - Gainesville VA
TRANSP:OPAQUE
SEQUENCE:0
UID:uid2385@portal.momsforliberty.org
DESCRIPTION:--- This iCal file does *NOT* confirm registration.\r\nEvent details subject to change. ---\r\nhttps://portal.momsforliberty.org/events/2385/\r\n\r\nEvent Title: Prince William County Chapter Meeting\r\nStart Date / Time: Apr 23, 2024 18:00 PM UTC\r\nLocation: TBD - Gainesville VA\r\nSpeaker: Bill Woolf\r\nBill Woolf, author of Eradicating Human Trafficking, will be speaking at our meeting. His expertise and insights into the dangers human trafficking poses in our region will provide valuable knowledge and awareness for all attendees. It is an important topic that needs attention, and having someone like Bill addressing it will help shed light on the issue.--- This iCal file does *NOT* confirm registration.Event details subject to change. ---\r\n\r\n--- By Tendenci - The Open Source AMS for Associations ---\r\n
X-ALT-DESC;FMTTYPE=text/html:<div>--- This iCal file does *NOT* confirm registration.Event details subject to change. ---</div><h1>Event Title: Prince William County Chapter Meeting</h1><div>https://portal.momsforliberty.org/events/2385/</div><br /><div>When: Apr 23, 2024 18:00 PM UTC</div><div>Speaker: Bill Woolf</div><br /><div><p>Bill Woolf, author of Eradicating Human Trafficking, will be speaking at our meeting. His expertise and insights into the dangers human trafficking poses in our region will provide valuable knowledge and awareness for all attendees. It is an important topic that needs attention, and having someone like Bill addressing it will help shed light on the issue.</p></div><div>--- This iCal file does *NOT* confirm registration.Event details subject to change. ---</div><div>--- Tendenci&reg\; Software by <a href="https://www.tendenci.com">tendenci.com</a> - The Open Source AMS for Associations ---</div>
SUMMARY:Prince William County Chapter Meeting
PRIORITY:5
CLASS:PUBLIC
BEGIN:VALARM
TRIGGER:-PT30M
ACTION:DISPLAY
DESCRIPTION:Reminder
END:VALARM
END:VEVENT
END:VCALENDAR
