BEGIN:VCALENDAR
PRODID:-//Tendenci - The Open Source AMS for Associations//Tendenci Codebase 12 MIMEDIR//EN
VERSION:2.0
METHOD:PUBLISH
BEGIN:VEVENT
DTSTAMP:20260426T010056Z
ORGANIZER:
DTSTART:20240320T050000Z
DTEND:20240320T070000Z
LOCATION:Wesley Owens Coffee
TRANSP:OPAQUE
SEQUENCE:0
UID:uid2399@portal.momsforliberty.org
DESCRIPTION:--- This iCal file does *NOT* confirm registration.\r\nEvent details subject to change. ---\r\nhttps://portal.momsforliberty.org/events/2399/\r\n\r\nEvent Title: Moms for Liberty- El Paso County Liberty Lunch Chapter Meeting\r\nStart Date / Time: Mar 19, 2024 23:00 PM US/Mountain\r\nLocation: Wesley Owens Coffee\r\nGoogle\r\nhttp://maps.google.com/maps?q=1744+Lake+Woodmoor+Dr,Monument,CO,80132\r\n\r\nForecast\nhttp://www.weather.com/weather/monthly/80132\r\n\r\nMoms for Liberty- El Paso CountyLiberty Lunch Chapter MeetingMarch 19, 2024From 11 AM to 1 PMat Wesley Owens Coffee(1744 Lake Woodmoor Dr,Monument, CO 80132)\r\nWe will have a few local Board of Education Directors in attendance as our guest speakers.\r\nThe meeting is only open to members and like-minded individuals.--- This iCal file does *NOT* confirm registration.Event details subject to change. ---\r\n\r\n--- By Tendenci - The Open Source AMS for Associations ---\r\n
X-ALT-DESC;FMTTYPE=text/html:<div>--- This iCal file does *NOT* confirm registration.Event details subject to change. ---</div><h1>Event Title: Moms for Liberty- El Paso County Liberty Lunch Chapter Meeting</h1><div>https://portal.momsforliberty.org/events/2399/</div><br /><div>When: Mar 19, 2024 23:00 PM US/Mountain</div><br />Wesley Owens Coffee<br />1744 Lake Woodmoor Dr<br />Monument, CO 80132<br /><div>http://maps.google.com/maps?q=1744+Lake+Woodmoor+Dr,Monument,CO,80132</div><br /><div>Forecast: http://www.weather.com/weather/monthly/80132</div><br /><br /><div><div class="xdj266r x11i5rnm xat24cr x1mh8g0r x1vvkbs">Moms for Liberty- El Paso County<br />Liberty Lunch Chapter Meeting<br />March 19, 2024<br />From 11 AM to 1 PM<br />at Wesley Owens Coffee<br />(1744 Lake Woodmoor Dr,<br />Monument, CO 80132)</div>
<div class="x11i5rnm xat24cr x1mh8g0r x1vvkbs xtlvy1s">We will have a few local Board of Education Directors in attendance as our guest speakers.</div>
<div class="x11i5rnm xat24cr x1mh8g0r x1vvkbs xtlvy1s">The meeting is only open to members and like-minded individuals.</div></div><div>--- This iCal file does *NOT* confirm registration.Event details subject to change. ---</div><div>--- Tendenci&reg\; Software by <a href="https://www.tendenci.com">tendenci.com</a> - The Open Source AMS for Associations ---</div>
SUMMARY:Moms for Liberty- El Paso County Liberty Lunch Chapter Meeting
PRIORITY:5
CLASS:PUBLIC
BEGIN:VALARM
TRIGGER:-PT30M
ACTION:DISPLAY
DESCRIPTION:Reminder
END:VALARM
END:VEVENT
END:VCALENDAR
