BEGIN:VCALENDAR
PRODID:-//Tendenci - The Open Source AMS for Associations//Tendenci Codebase 12 MIMEDIR//EN
VERSION:2.0
METHOD:PUBLISH
BEGIN:VEVENT
DTSTAMP:20260426T050741Z
ORGANIZER:Kimberly Hermann, Southeastern Legal Foundation
DTSTART:20240416T000000Z
DTEND:20240416T010000Z
LOCATION:SLF Legal Bootcamp
TRANSP:OPAQUE
SEQUENCE:0
UID:uid2404@portal.momsforliberty.org
DESCRIPTION:--- This iCal file does *NOT* confirm registration.\r\nEvent details subject to change. ---\r\nhttps://portal.momsforliberty.org/events/2404/\r\n\r\nEvent Title: Legal Bootcamp\r\nStart Date / Time: Apr 15, 2024 20:00 PM US/Eastern\r\nLocation: SLF Legal Bootcamp\r\nSpeaker: Kimberly Hermann\r\n \r\nThe Executive Director of the Southeastern Legal Foundation, Kimberly Hermann,will be hosting a Legal Bootcamp on April 15th virtually at 8:00 pm to provide us with the legal knowledge and tools to reclaim our schools. She will spend about 20-25 minutes walking you through parental and student rights on anti-discrimination laws, the First Amendment, privacy laws, and transparency laws. She will touch on upcoming Title IX changes and efforts to defeat gender ideology, too. We will then open it up for questions.\r\n \r\nThe meeting is virtual, but hard copies of Parent Guidebooks and training packets will be given to participants. You must register no later than March 31st to receive one. You can pick it up at our chapter meeting on April 11 th or make arrangements to pick it up another time.\r\n \r\nA few important housekeeping items:\r\nThe training is &ldquo\;off the record&rdquo\; so we ask that it not be recorded.\r\nThe training is for members only, and not the public at large. You MUST register at the following link:\r\n \r\nRegister for SLF Legal Bootcamp\r\n(A zoom link will be sent to all registrants a day before the training. \r\n**Please check your spam if you do not see the link as SLF emails frequently get caught in spam folders due to the &ldquo\;.org&rdquo\; domain.)--- This iCal file does *NOT* confirm registration.Event details subject to change. ---\r\n\r\n--- By Tendenci - The Open Source AMS for Associations ---\r\n
X-ALT-DESC;FMTTYPE=text/html:<div>--- This iCal file does *NOT* confirm registration.Event details subject to change. ---</div><h1>Event Title: Legal Bootcamp</h1><div>https://portal.momsforliberty.org/events/2404/</div><br /><div>When: Apr 15, 2024 20:00 PM US/Eastern</div><div>Speaker: Kimberly Hermann</div><br /><div><div>&nbsp\;</div>
<div>The Executive Director of the Southeastern Legal Foundation, Kimberly Hermann,will be hosting a Legal Bootcamp on April 15th virtually at 8:00 pm to provide us with the legal knowledge and tools to reclaim our schools. She will spend about 20-25 minutes walking you through parental and student rights on anti-discrimination laws, the First Amendment, privacy laws, and transparency laws. She will touch on upcoming Title IX changes and efforts to defeat gender ideology, too. We will then open it up for questions.</div>
<div>&nbsp\;</div>
<div>The meeting is virtual, but hard copies of Parent Guidebooks and training packets will be given to participants. You must register no later than March 31st to receive one. You can pick it up at our chapter meeting on April 11 th or make arrangements to pick it up another time.</div>
<div>&nbsp\;</div>
<div>A few important housekeeping items:</div>
<div>The training is &ldquo\;off the record&rdquo\; so we ask that it not be recorded.</div>
<div>The training is for members only, and not the public at large. You MUST register at the following link:</div>
<div>&nbsp\;</div>
<div><a class="btn btn-default" href="https://bit.ly/3UKOSu2" target="_blank" rel="noopener">Register for SLF Legal Bootcamp</a></div>
<h4>(A zoom link will be sent to all registrants a day before the training.&nbsp\;</h4>
<h4>**Please check your spam if you do not see the link as SLF emails frequently get caught in spam folders due to the &ldquo\;.org&rdquo\; domain.)</h4></div><div>--- This iCal file does *NOT* confirm registration.Event details subject to change. ---</div><div>--- Tendenci&reg\; Software by <a href="https://www.tendenci.com">tendenci.com</a> - The Open Source AMS for Associations ---</div>
SUMMARY:Legal Bootcamp
PRIORITY:5
CLASS:PUBLIC
BEGIN:VALARM
TRIGGER:-PT30M
ACTION:DISPLAY
DESCRIPTION:Reminder
END:VALARM
END:VEVENT
END:VCALENDAR
