BEGIN:VCALENDAR
PRODID:-//Tendenci - The Open Source AMS for Associations//Tendenci Codebase 12 MIMEDIR//EN
VERSION:2.0
METHOD:PUBLISH
BEGIN:VEVENT
DTSTAMP:20260421T161157Z
ORGANIZER:
DTSTART:20240323T045800Z
DTEND:20240323T220000Z
LOCATION:Whiskey Trail
TRANSP:OPAQUE
SEQUENCE:0
UID:uid2405@portal.momsforliberty.org
DESCRIPTION:--- This iCal file does *NOT* confirm registration.\r\nEvent details subject to change. ---\r\nhttps://portal.momsforliberty.org/events/2405/\r\n\r\nEvent Title: New Hanover County Moms For Liberty Monthly meeting\r\nStart Date / Time: Mar 23, 2024 00:58 AM US/Eastern\r\nLocation: Whiskey Trail\r\nGoogle\r\nhttp://maps.google.com/maps?q=4039+Masonboro+Loop+Rd+Unit+1-B+(upstairs),Wilmington,NC,28409\r\n\r\nForecast\nhttp://www.weather.com/weather/monthly/28409\r\n\r\nWe are SUPER excited to have Ana Parks from Turning Point USA's High School Department at our March Mom's For Liberty meeting as a guest speaker! 🇺🇸\r\nAna Parks is the Tarheel Field Representative for Turning Point USA's High School Department and a graduate of Liberty University. Ana has been with the organization in a few different capacities for just over 3 years now and is dedicated to educating, empowering, and mobilizing the next generation of freedom fighters to be part of the change in the world.\r\nNatosha Tew, New Hanover County School board candidate, will also be speaking about why she's running and her plans to improve our schools.\r\nDATE: Wednesday March 20, 2024\r\nTIME: 6PM\r\nPLACE: Whiskey Trail (meeting will be Upstairs)4039 Masonboro Loop RdUnit 1-B Wilmington, NC 28409--- This iCal file does *NOT* confirm registration.Event details subject to change. ---\r\n\r\n--- By Tendenci - The Open Source AMS for Associations ---\r\n
X-ALT-DESC;FMTTYPE=text/html:<div>--- This iCal file does *NOT* confirm registration.Event details subject to change. ---</div><h1>Event Title: New Hanover County Moms For Liberty Monthly meeting</h1><div>https://portal.momsforliberty.org/events/2405/</div><br /><div>When: Mar 23, 2024 00:58 AM US/Eastern</div><br />Whiskey Trail<br />4039 Masonboro Loop Rd Unit 1-B (upstairs)<br />Wilmington, NC 28409<br /><div>http://maps.google.com/maps?q=4039+Masonboro+Loop+Rd+Unit+1-B+(upstairs),Wilmington,NC,28409</div><br /><div>Forecast: http://www.weather.com/weather/monthly/28409</div><br /><br /><div><p>We are SUPER excited to have Ana Parks from Turning Point USA's High School Department at our March Mom's For Liberty meeting as a guest speaker! 🇺🇸</p>
<p>Ana Parks is the Tarheel Field Representative for Turning Point USA's High School Department and a graduate of Liberty University. Ana has been with the organization in a few different capacities for just over 3 years now and is dedicated to educating, empowering, and mobilizing the next generation of freedom fighters to be part of the change in the world.</p>
<p>Natosha Tew, New Hanover County School board candidate, will also be speaking about why she's running and her plans to improve our schools.</p>
<p>DATE: Wednesday March 20, 2024</p>
<p>TIME: 6PM</p>
<p>PLACE:&nbsp\;Whiskey Trail (meeting will be Upstairs)<br />4039 Masonboro Loop Rd<br />Unit 1-B Wilmington, NC 28409</p></div><div>--- This iCal file does *NOT* confirm registration.Event details subject to change. ---</div><div>--- Tendenci&reg\; Software by <a href="https://www.tendenci.com">tendenci.com</a> - The Open Source AMS for Associations ---</div>
SUMMARY:New Hanover County Moms For Liberty Monthly meeting
PRIORITY:5
CLASS:PUBLIC
BEGIN:VALARM
TRIGGER:-PT30M
ACTION:DISPLAY
DESCRIPTION:Reminder
END:VALARM
END:VEVENT
END:VCALENDAR
