BEGIN:VCALENDAR
PRODID:-//Tendenci - The Open Source AMS for Associations//Tendenci Codebase 12 MIMEDIR//EN
VERSION:2.0
METHOD:PUBLISH
BEGIN:VEVENT
DTSTAMP:20260422T122142Z
ORGANIZER:
DTSTART:20240409T100000Z
DTEND:20240409T120000Z
LOCATION:The Good Cup  (located inside Brentwood Baptist Church)
TRANSP:OPAQUE
SEQUENCE:0
UID:uid2442@portal.momsforliberty.org
DESCRIPTION:--- This iCal file does *NOT* confirm registration.\r\nEvent details subject to change. ---\r\nhttps://portal.momsforliberty.org/events/2442/\r\n\r\nEvent Title: Coffee and Social Time\r\nStart Date / Time: Apr 09, 2024 10:00 AM UTC\r\nLocation: The Good Cup  (located inside Brentwood Baptist Church)\r\nGoogle\r\nhttp://maps.google.com/maps?q=7777+Concord+Road,Brentwood,TN\r\n\r\nForecast\nhttp://www.weather.com/weather/monthly/\r\n\r\nMoms for Liberty of Williamson County is having a Coffee Social!  Grab a cup in this sunny cafe, and join us for casual conversation. We would love to get to know you better!  Join with other moms, dads, grandparents, and concerned citizens who share the desire to support parental rights, protect children, and create a better community.\r\nTues, April 9\r\n10 AM to Noon \r\nThe Good Cup\r\nLocated in Brentwood Baptist Church, 7777 Concord Road, Brentwood\r\nPark on the right side of the church complex near the back of the building and enter at Door "G"--- This iCal file does *NOT* confirm registration.Event details subject to change. ---\r\n\r\n--- By Tendenci - The Open Source AMS for Associations ---\r\n
X-ALT-DESC;FMTTYPE=text/html:<div>--- This iCal file does *NOT* confirm registration.Event details subject to change. ---</div><h1>Event Title: Coffee and Social Time</h1><div>https://portal.momsforliberty.org/events/2442/</div><br /><div>When: Apr 09, 2024 10:00 AM UTC</div><br />The Good Cup  (located inside Brentwood Baptist Church)<br />7777 Concord Road<br />Brentwood, TN<br /><div>http://maps.google.com/maps?q=7777+Concord+Road,Brentwood,TN</div><br /><div>Forecast: http://www.weather.com/weather/monthly/</div><br /><br /><div><p><span style="color: #000000\; font-weight: bold\;">Moms for Liberty of Williamson County is having a Coffee Social!&nbsp\; <span class="x193iq5w xeuugli x13faqbe x1vvkbs x1xmvt09 x1lliihq x1s928wv xhkezso x1gmr53x x1cpjm7i x1fgarty x1943h6x xudqn12 x3x7a5m x6prxxf xvq8zen xo1l8bm xzsf02u" dir="auto">Grab a cup in this sunny cafe, and join us for casual conversation. We would love to get to know you better!&nbsp\; Join with other moms, dads, grandparents, and concerned citizens who share the desire to support parental rights, protect children, and create a better community.</span><br /></span></p>
<p><span style="color: #000000\; font-weight: bold\;">Tues, April 9</span></p>
<p><span style="color: #000000\; font-weight: bold\;">10 AM to Noon </span></p>
<p><span style="color: #000000\;"><a style="font-weight: bold\;" href="https://www.thegoodcup.com/brentwood" target="_blank" rel="noopener" data-link-type="web">The Good Cup</a></span></p>
<p><span style="color: #000000\; font-weight: bold\;">Located in Brentwood Baptist Church, 7777 Concord Road, Brentwood</span></p>
<p><span style="color: #000000\; font-weight: bold\;">Park on the right side of the church complex near the back of the building and enter at Door "G"</span></p></div><div>--- This iCal file does *NOT* confirm registration.Event details subject to change. ---</div><div>--- Tendenci&reg\; Software by <a href="https://www.tendenci.com">tendenci.com</a> - The Open Source AMS for Associations ---</div>
SUMMARY:Coffee and Social Time
PRIORITY:5
CLASS:PUBLIC
BEGIN:VALARM
TRIGGER:-PT30M
ACTION:DISPLAY
DESCRIPTION:Reminder
END:VALARM
END:VEVENT
END:VCALENDAR
