BEGIN:VCALENDAR
PRODID:-//Tendenci - The Open Source AMS for Associations//Tendenci Codebase 12 MIMEDIR//EN
VERSION:2.0
METHOD:PUBLISH
BEGIN:VEVENT
DTSTAMP:20260419T170030Z
ORGANIZER:Moms for Liberty Howard County Maryland
DTSTART:20240422T223000Z
DTEND:20240423T003000Z
LOCATION:
TRANSP:OPAQUE
SEQUENCE:0
UID:uid2443@portal.momsforliberty.org
DESCRIPTION:--- This iCal file does *NOT* confirm registration.\r\nEvent details subject to change. ---\r\nhttps://portal.momsforliberty.org/events/2443/\r\n\r\nEvent Title: Chapter Meeting\r\nStart Date / Time: Apr 22, 2024 18:30 PM US/Eastern\r\nLocation: \r\nSpeaker: Jason Herrick\r\nGoogle\r\nhttp://maps.google.com/maps?q=6540+Washington+Blvd,Elkridge,MD,21075\r\n\r\nForecast\nhttp://www.weather.com/weather/monthly/21075\r\n\r\nLOOKING FOR ALTERNATIVE EDUCATION FOR YOUR CHILDREN? COME OUT TO HEAR JASON SPEAK OUT APOGEE!\r\nJason Herrick is the Founder of Apogee HoCo, a character-focused, project-based, Socratic school launching this September of 2024.  He has developed his expertise as a coach in guiding children to grow and develop themselves both on and off the soccer field.  Jason breaks down his philosophy of leadership into Encourage, Educate &amp\; Empower.   He recognizes impacting others first begins with connection in trusted relationships, so the children can feel comfortable growing and developing their skills to which they can then be empowered to take on more and more autonomy for themself and to lead others.--- This iCal file does *NOT* confirm registration.Event details subject to change. ---\r\n\r\n--- By Tendenci - The Open Source AMS for Associations ---\r\n
X-ALT-DESC;FMTTYPE=text/html:<div>--- This iCal file does *NOT* confirm registration.Event details subject to change. ---</div><h1>Event Title: Chapter Meeting</h1><div>https://portal.momsforliberty.org/events/2443/</div><br /><div>When: Apr 22, 2024 18:30 PM US/Eastern</div><div>Speaker: Jason Herrick</div><br /><br />6540 Washington Blvd<br />Elkridge, MD 21075<br /><div>http://maps.google.com/maps?q=6540+Washington+Blvd,Elkridge,MD,21075</div><br /><div>Forecast: http://www.weather.com/weather/monthly/21075</div><br /><br /><div><p>LOOKING FOR ALTERNATIVE EDUCATION FOR YOUR CHILDREN? COME OUT TO HEAR JASON SPEAK OUT APOGEE!</p>
<p>Jason Herrick is the Founder of Apogee HoCo, a character-focused, project-based, Socratic school launching this September of 2024.&nbsp\;&nbsp\;He has developed his expertise as a coach in guiding children to grow and develop themselves both on and off the soccer field.&nbsp\;&nbsp\;Jason breaks down his philosophy of leadership into Encourage, Educate &amp\; Empower.&nbsp\;&nbsp\;&nbsp\;He recognizes impacting others first begins with connection in trusted relationships, so the children can feel comfortable growing and developing their skills to which they can then be empowered to take on more and more autonomy for themself and to lead others.</p></div><div>--- This iCal file does *NOT* confirm registration.Event details subject to change. ---</div><div>--- Tendenci&reg\; Software by <a href="https://www.tendenci.com">tendenci.com</a> - The Open Source AMS for Associations ---</div>
SUMMARY:Chapter Meeting
PRIORITY:5
CLASS:PUBLIC
BEGIN:VALARM
TRIGGER:-PT30M
ACTION:DISPLAY
DESCRIPTION:Reminder
END:VALARM
END:VEVENT
END:VCALENDAR
