BEGIN:VCALENDAR
PRODID:-//Tendenci - The Open Source AMS for Associations//Tendenci Codebase 12 MIMEDIR//EN
VERSION:2.0
METHOD:PUBLISH
BEGIN:VEVENT
DTSTAMP:20260423T074039Z
ORGANIZER:
DTSTART:20240420T100000Z
DTEND:20240420T120000Z
LOCATION:Leisters Park
TRANSP:OPAQUE
SEQUENCE:0
UID:uid2448@portal.momsforliberty.org
DESCRIPTION:--- This iCal file does *NOT* confirm registration.\r\nEvent details subject to change. ---\r\nhttps://portal.momsforliberty.org/events/2448/\r\n\r\nEvent Title: Spring Play Date\r\nStart Date / Time: Apr 20, 2024 10:00 AM UTC\r\nLocation: Leisters Park\r\nBring the family out for some fresh air and fun!--- This iCal file does *NOT* confirm registration.Event details subject to change. ---\r\n\r\n--- By Tendenci - The Open Source AMS for Associations ---\r\n
X-ALT-DESC;FMTTYPE=text/html:<div>--- This iCal file does *NOT* confirm registration.Event details subject to change. ---</div><h1>Event Title: Spring Play Date</h1><div>https://portal.momsforliberty.org/events/2448/</div><br /><div>When: Apr 20, 2024 10:00 AM UTC</div><br /><div><p>Bring the family out for some fresh air and fun!</p></div><div>--- This iCal file does *NOT* confirm registration.Event details subject to change. ---</div><div>--- Tendenci&reg\; Software by <a href="https://www.tendenci.com">tendenci.com</a> - The Open Source AMS for Associations ---</div>
SUMMARY:Spring Play Date
PRIORITY:5
CLASS:PUBLIC
BEGIN:VALARM
TRIGGER:-PT30M
ACTION:DISPLAY
DESCRIPTION:Reminder
END:VALARM
END:VEVENT
END:VCALENDAR
