BEGIN:VCALENDAR
PRODID:-//Tendenci - The Open Source AMS for Associations//Tendenci Codebase 12 MIMEDIR//EN
VERSION:2.0
METHOD:PUBLISH
BEGIN:VEVENT
DTSTAMP:20260422T190448Z
ORGANIZER:
DTSTART:20240415T000000Z
DTEND:20240415T010000Z
LOCATION:
TRANSP:OPAQUE
SEQUENCE:0
UID:uid2456@portal.momsforliberty.org
DESCRIPTION:--- This iCal file does *NOT* confirm registration.\r\nEvent details subject to change. ---\r\nhttps://portal.momsforliberty.org/events/2456/\r\n\r\nEvent Title: Info Session: What is Kooth?\r\nStart Date / Time: Apr 14, 2024 20:00 PM America/New_York\r\nLocation: \r\nSpeaker: Ed Brunn, Pennsylvania Coalition of Informed Consent\r\nJoin us as we host guest speaker, Ed Brunn as he reviews Kooth, a "mental health" social media platform that your tax dollars are funding our school children (14 and older) to utilize without parental consent or knowledge. --- This iCal file does *NOT* confirm registration.Event details subject to change. ---\r\n\r\n--- By Tendenci - The Open Source AMS for Associations ---\r\n
X-ALT-DESC;FMTTYPE=text/html:<div>--- This iCal file does *NOT* confirm registration.Event details subject to change. ---</div><h1>Event Title: Info Session: What is Kooth?</h1><div>https://portal.momsforliberty.org/events/2456/</div><br /><div>When: Apr 14, 2024 20:00 PM America/New_York</div><div>Speaker: Ed Brunn, Pennsylvania Coalition of Informed Consent</div><br /><div><p>Join us as we host guest speaker, Ed Brunn as he reviews Kooth, a "mental health" social media platform that your tax dollars are funding our school children (14 and older) to utilize without parental consent or knowledge.&nbsp\;</p></div><div>--- This iCal file does *NOT* confirm registration.Event details subject to change. ---</div><div>--- Tendenci&reg\; Software by <a href="https://www.tendenci.com">tendenci.com</a> - The Open Source AMS for Associations ---</div>
SUMMARY:Info Session: What is Kooth?
PRIORITY:5
CLASS:PUBLIC
BEGIN:VALARM
TRIGGER:-PT30M
ACTION:DISPLAY
DESCRIPTION:Reminder
END:VALARM
END:VEVENT
END:VCALENDAR
