BEGIN:VCALENDAR
PRODID:-//Tendenci - The Open Source AMS for Associations//Tendenci Codebase 12 MIMEDIR//EN
VERSION:2.0
METHOD:PUBLISH
BEGIN:VEVENT
DTSTAMP:20260423T032407Z
ORGANIZER:
DTSTART:20240411T230000Z
DTEND:20240412T003000Z
LOCATION:Tremont Community Center
TRANSP:OPAQUE
SEQUENCE:0
UID:uid2459@portal.momsforliberty.org
DESCRIPTION:--- This iCal file does *NOT* confirm registration.\r\nEvent details subject to change. ---\r\nhttps://portal.momsforliberty.org/events/2459/\r\n\r\nEvent Title: April Public Meeting\r\nStart Date / Time: Apr 11, 2024 18:00 PM America/Chicago\r\nLocation: Tremont Community Center\r\nGoogle\r\nhttp://maps.google.com/maps?q=216+S+Sampson+St,Tremont,61568\r\n\r\nForecast\nhttp://www.weather.com/weather/monthly/61568\r\n\r\nThis month's Chapter Meeting will be a little different.  After working months to build a foundation for the volunteers in Tazewell County, we are making our first appearance at a public event. \r\nThe agenda willl be:\r\n\r\nUpdates&ndash\;Community Outreach Report&ndash\;School District Teams&ndash\;Why We Fight Web Page\r\nLegislative Conversation with Rep. Bill Hauter\r\nLeadership Training in Racine Wisconsin\r\nGrassroots Rising: The Truth Revealed\r\nM4L National&rsquo\;s Certification: Endorsements &amp\; Campaigning\r\n\r\nWe look forward to seeing you!\r\n --- This iCal file does *NOT* confirm registration.Event details subject to change. ---\r\n\r\n--- By Tendenci - The Open Source AMS for Associations ---\r\n
X-ALT-DESC;FMTTYPE=text/html:<div>--- This iCal file does *NOT* confirm registration.Event details subject to change. ---</div><h1>Event Title: April Public Meeting</h1><div>https://portal.momsforliberty.org/events/2459/</div><br /><div>When: Apr 11, 2024 18:00 PM America/Chicago</div><br />Tremont Community Center<br />216 S Sampson St<br /> 61568<br /><div>http://maps.google.com/maps?q=216+S+Sampson+St,Tremont,61568</div><br /><div>Forecast: http://www.weather.com/weather/monthly/61568</div><br /><br /><div><p>This month's Chapter Meeting will be a little different.&nbsp\; After working months to build a foundation for the volunteers in Tazewell County, we are making our first appearance at a public event.&nbsp\;</p>
<p>The agenda willl be:</p>
<ul>
<li>Updates<br />&ndash\;Community Outreach Report<br />&ndash\;School District Teams<br />&ndash\;Why We Fight Web Page</li>
<li>Legislative Conversation with Rep. Bill Hauter</li>
<li>Leadership Training in Racine Wisconsin</li>
<li>Grassroots Rising: The Truth Revealed</li>
<li>M4L National&rsquo\;s Certification: Endorsements &amp\; Campaigning</li>
</ul>
<p>We look forward to seeing you!</p>
<p>&nbsp\;</p></div><div>--- This iCal file does *NOT* confirm registration.Event details subject to change. ---</div><div>--- Tendenci&reg\; Software by <a href="https://www.tendenci.com">tendenci.com</a> - The Open Source AMS for Associations ---</div>
SUMMARY:April Public Meeting
PRIORITY:5
CLASS:PUBLIC
BEGIN:VALARM
TRIGGER:-PT30M
ACTION:DISPLAY
DESCRIPTION:Reminder
END:VALARM
END:VEVENT
END:VCALENDAR
