BEGIN:VCALENDAR
PRODID:-//Tendenci - The Open Source AMS for Associations//Tendenci Codebase 12 MIMEDIR//EN
VERSION:2.0
METHOD:PUBLISH
BEGIN:VEVENT
DTSTAMP:20260421T224313Z
ORGANIZER:
DTSTART:20240518T190000Z
DTEND:20240518T213000Z
LOCATION:Doubletree by Hilton
TRANSP:OPAQUE
SEQUENCE:0
UID:uid2494@portal.momsforliberty.org
DESCRIPTION:--- This iCal file does *NOT* confirm registration.\r\nEvent details subject to change. ---\r\nhttps://portal.momsforliberty.org/events/2494/\r\n\r\nEvent Title: Mother's Appreciation Luncheon\r\nStart Date / Time: May 18, 2024 12:00 PM US/Arizona\r\nLocation: Doubletree by Hilton\r\nGoogle\r\nhttp://maps.google.com/maps?q=2100+South+Priest+Drive,Tempe,AZ,85282\r\n\r\nForecast\nhttp://www.weather.com/weather/monthly/85282\r\n\r\nMAY 18, 2024\r\n12PM-2:30PM\r\nDOORS OPEN AT 11:30AM\r\nTEMPE, AZ\r\n \r\nWe would like to honor the women who are fighting for the parental rights for our children and to bring awareness to the many organizations supporting the mission.  This is an educational luncheon hosted by Moms for Liberty, co-sponsored by Don't Mess With Our Children, Protect Arizona Children Coalition, Black Mothers Forum &amp\; Turning Point Action Mom's Coalition. \r\n This event is FREE, but SPACE IS LIMITED.\r\nLunch will include a Salad, Entree, Dessert and Beverages\r\n*Please indicate in the Comments section, if a Vegetarian selection is needed. \r\n \r\nRSVP today!  Seating will be first come, first served.\r\n \r\n*You will need a photo ID to check in for the Event.--- This iCal file does *NOT* confirm registration.Event details subject to change. ---\r\n\r\n--- By Tendenci - The Open Source AMS for Associations ---\r\n
X-ALT-DESC;FMTTYPE=text/html:<div>--- This iCal file does *NOT* confirm registration.Event details subject to change. ---</div><h1>Event Title: Mother's Appreciation Luncheon</h1><div>https://portal.momsforliberty.org/events/2494/</div><br /><div>When: May 18, 2024 12:00 PM US/Arizona</div><br />Doubletree by Hilton<br />2100 South Priest Drive<br />Tempe, AZ 85282<br /><div>http://maps.google.com/maps?q=2100+South+Priest+Drive,Tempe,AZ,85282</div><br /><div>Forecast: http://www.weather.com/weather/monthly/85282</div><br /><br /><div><p style="text-align: center\;">MAY 18, 2024</p>
<p style="text-align: center\;">12PM-2:30PM</p>
<p style="text-align: center\;">DOORS OPEN AT 11:30AM</p>
<p style="text-align: center\;">TEMPE, AZ</p>
<p style="text-align: center\;">&nbsp\;</p>
<p style="text-align: center\;">We would like to honor the women who are fighting for the parental rights for our children and to bring awareness to the many organizations supporting the mission.&nbsp\; This is an educational luncheon hosted by Moms for Liberty, co-sponsored by Don't Mess With Our Children, Protect Arizona Children Coalition, Black Mothers Forum &amp\; Turning Point Action Mom's Coalition.&nbsp\;</p>
<p style="text-align: center\;">&nbsp\;<strong>This event is FREE, but SPACE IS LIMITED.</strong></p>
<p style="text-align: center\;"><strong>Lunch will include a Salad, Entree, Dessert and Beverages</strong></p>
<p style="text-align: center\;"><strong>*Please indicate in the Comments section, if a Vegetarian selection is needed.&nbsp\;</strong></p>
<p style="text-align: center\;">&nbsp\;</p>
<p style="text-align: center\;">RSVP today!&nbsp\; Seating will be first come, first served.</p>
<p style="text-align: center\;">&nbsp\;</p>
<p style="text-align: center\;">*You will need a photo ID to check in for the Event.</p></div><div>--- This iCal file does *NOT* confirm registration.Event details subject to change. ---</div><div>--- Tendenci&reg\; Software by <a href="https://www.tendenci.com">tendenci.com</a> - The Open Source AMS for Associations ---</div>
SUMMARY:Mother's Appreciation Luncheon
PRIORITY:5
CLASS:PUBLIC
BEGIN:VALARM
TRIGGER:-PT30M
ACTION:DISPLAY
DESCRIPTION:Reminder
END:VALARM
END:VEVENT
END:VCALENDAR
