BEGIN:VCALENDAR
PRODID:-//Tendenci - The Open Source AMS for Associations//Tendenci Codebase 12 MIMEDIR//EN
VERSION:2.0
METHOD:PUBLISH
BEGIN:VEVENT
DTSTAMP:20260422T131012Z
ORGANIZER:Jessica Tillmann
DTSTART:20240513T223000Z
DTEND:20240514T003000Z
LOCATION:Victorio's Oyster Bar and Grill
TRANSP:OPAQUE
SEQUENCE:0
UID:uid2498@portal.momsforliberty.org
DESCRIPTION:--- This iCal file does *NOT* confirm registration.\r\nEvent details subject to change. ---\r\nhttps://portal.momsforliberty.org/events/2498/\r\n\r\nEvent Title: Moms for Liberty - Seminole County, FL May Business Meeting\r\nStart Date / Time: May 13, 2024 18:30 PM US/Eastern\r\nLocation: Victorio's Oyster Bar and Grill\r\nSpeaker: Kelly Critz\r\nGoogle\r\nhttp://maps.google.com/maps?q=300+Dog+Track+Rd,Longwood,FL,32750\r\n\r\nForecast\nhttp://www.weather.com/weather/monthly/32750\r\n\r\n--- This iCal file does *NOT* confirm registration.Event details subject to change. ---\r\n\r\n--- By Tendenci - The Open Source AMS for Associations ---\r\n
X-ALT-DESC;FMTTYPE=text/html:<div>--- This iCal file does *NOT* confirm registration.Event details subject to change. ---</div><h1>Event Title: Moms for Liberty - Seminole County, FL May Business Meeting</h1><div>https://portal.momsforliberty.org/events/2498/</div><br /><div>When: May 13, 2024 18:30 PM US/Eastern</div><div>Speaker: Kelly Critz</div><br />Victorio's Oyster Bar and Grill<br />300 Dog Track Rd<br />Longwood, FL 32750<br /><div>http://maps.google.com/maps?q=300+Dog+Track+Rd,Longwood,FL,32750</div><br /><div>Forecast: http://www.weather.com/weather/monthly/32750</div><br /><br /><div></div><div>--- This iCal file does *NOT* confirm registration.Event details subject to change. ---</div><div>--- Tendenci&reg\; Software by <a href="https://www.tendenci.com">tendenci.com</a> - The Open Source AMS for Associations ---</div>
SUMMARY:Moms for Liberty - Seminole County, FL May Business Meeting
PRIORITY:5
CLASS:PUBLIC
BEGIN:VALARM
TRIGGER:-PT30M
ACTION:DISPLAY
DESCRIPTION:Reminder
END:VALARM
END:VEVENT
END:VCALENDAR
