BEGIN:VCALENDAR
PRODID:-//Tendenci - The Open Source AMS for Associations//Tendenci Codebase 12 MIMEDIR//EN
VERSION:2.0
METHOD:PUBLISH
BEGIN:VEVENT
DTSTAMP:20260425T195504Z
ORGANIZER:
DTSTART:20240520T183000Z
DTEND:20240520T203000Z
LOCATION:Williamson County Admin Building - Auditorium
TRANSP:OPAQUE
SEQUENCE:0
UID:uid2530@portal.momsforliberty.org
DESCRIPTION:--- This iCal file does *NOT* confirm registration.\r\nEvent details subject to change. ---\r\nhttps://portal.momsforliberty.org/events/2530/\r\n\r\nEvent Title: School Board Meeting - May 2024 - Call to Action\r\nStart Date / Time: May 20, 2024 18:30 PM UTC\r\nLocation: Williamson County Admin Building - Auditorium\r\nGoogle\r\nhttp://maps.google.com/maps?q=1320+West+Main+Street,Franklin,TN\r\n\r\nForecast\nhttp://www.weather.com/weather/monthly/\r\n\r\n\r\nCALL TO ACTION \r\n\r\n\r\nProtect Female Students, Free Speech, and Parental Rights\r\n \r\nMonday, May 20\r\n6:30 PM\r\n1320 West Main Street, Franklin\r\n(Auditorium at the Williamson County Admin Building) \r\nThe entrance is on the northeast side of the building, identified by a concrete ramp to double doors.\r\n \r\n\r\nThe Biden Administration&rsquo\;s recent changes to Title IX harm females and violate free speech.\r\n\r\nMale students who identify as female will have access to facilities designated as female-only spaces such as bathrooms, changing rooms, locker rooms, showers, and sleeping accommodations, and to participate in women&rsquo\;s sports and organizations.\r\nFemale athletes will be denied opportunities to join sports teams, win titles, and obtain athletic scholarships to compete and study at the collegiate level.\r\nStudents and teachers must submit to compelled speech rules and lose free speech protections. \r\n\r\n\r\nPreregister for Public Comment\r\nYou must register online to speak at the school board meeting during public comment.  Public comment occurs within the first thirty minutes of the meeting.   \r\nSign up between Thursday, May 16, and noon Monday, May 20.\r\nEmail publiccomment@wcs.edu.\r\nProvide the following information:\r\nYour First and Last Name\r\nComplete Address\r\nYour Topic of Comment\r\nAny Organization You Represent\r\nAfter the district receives your email request to speak, you will receive a confirmation email. Bring the email to the meeting.\r\n \r\n\r\nWe Make it Simple With These Links\r\nTemplate language to use in your message.\r\nAsk the board to create a resolution similar to this template Resolution.\r\nInform the board that the changes should not be implemented because:\r\nNumerous states, including Tennessee, have filed lawsuits against the Title IX changes.\r\nOther states are taking action to halt implementation and we should follow their lead.\r\nFlorida \r\nLouisiana\r\nMontana\r\nOklahoma\r\nSouth Carolina\r\nTo learn more about the recent Title IX changes:  https://www.momsforliberty.org/title9/\r\nYou can attend or watch the livestream here: https://www.youtube.com/watch?v=4vz4h_txbbI--- This iCal file does *NOT* confirm registration.Event details subject to change. ---\r\n\r\n--- By Tendenci - The Open Source AMS for Associations ---\r\n
X-ALT-DESC;FMTTYPE=text/html:<div>--- This iCal file does *NOT* confirm registration.Event details subject to change. ---</div><h1>Event Title: School Board Meeting - May 2024 - Call to Action</h1><div>https://portal.momsforliberty.org/events/2530/</div><br /><div>When: May 20, 2024 18:30 PM UTC</div><br />Williamson County Admin Building - Auditorium<br />1320 West Main Street<br />Franklin, TN<br /><div>http://maps.google.com/maps?q=1320+West+Main+Street,Franklin,TN</div><br /><div>Forecast: http://www.weather.com/weather/monthly/</div><br /><br /><div><div class="m8h3af8h l7ghb35v kjdc1dyq kmwttqpk gh25dzvf">
<h2 style="text-align: center\;"><span style="text-decoration: underline\;"><strong>CALL TO ACTION</strong></span> </h2>
</div>
<div class="m8h3af8h l7ghb35v kjdc1dyq kmwttqpk gh25dzvf">
<h4 style="text-align: center\;"><span style="text-decoration: underline\;"><strong>Protect Female Students, Free Speech, and Parental Rights</strong></span></h4>
<p>&nbsp\;</p>
<h4 align="center"><strong>Monday, May 20</strong></h4>
<h4 align="center"><strong>6:30 PM</strong></h4>
<h4 align="center"><strong>1320 West Main Street, Franklin</strong></h4>
<p align="center"><strong>(Auditorium at the Williamson County Admin Building) </strong></p>
<p align="center">The entrance is on the northeast side of the building, identified by a concrete ramp to double doors.</p>
<p align="center">&nbsp\;</p>
</div>
<p><strong>The Biden Administration&rsquo\;s recent changes to Title IX harm females and violate free speech.</strong></p>
<div>
<p style="padding-left: 40px\;"><strong>Male students who identify as female will have access to facilities designated as female-only spaces such as bathrooms, changing rooms, locker rooms, showers, and sleeping accommodations, and to participate in women&rsquo\;s sports and organizations.</strong></p>
<p style="padding-left: 40px\;"><strong>Female athletes will be denied opportunities to join sports teams, win titles, and obtain athletic scholarships to compete and study at the collegiate level.</strong></p>
<p style="padding-left: 40px\;"><strong>Students and teachers must submit to compelled speech rules and lose free speech protections.</strong>&nbsp\;</p>
</div>
<div>
<h3 class="l7ghb35v kjdc1dyq kmwttqpk gh25dzvf jikcssrz" style="text-align: center\;"><strong><span style="text-decoration: underline\;">Preregister for Public Comment</span></strong></h3>
<p><strong>You must register online to speak at the school board meeting during public comment.&nbsp\; </strong><strong>Public comment occurs within the first thirty minutes of the meeting.&nbsp\; <br /> </strong></p>
<p><strong>Sign up between Thursday, May 16, and noon Monday, May 20.</strong></p>
<p><strong>Email&nbsp\;<a href="mailto:publiccomment@wcs.edu" target="_blank" rel="noopener noreferrer">publiccomment@wcs.edu</a>.</strong></p>
<p><strong>Provide the following information:</strong></p>
<p style="padding-left: 40px\;"><strong>Your First and Last Name</strong></p>
<p style="padding-left: 40px\;"><strong>Complete Address</strong></p>
<p style="padding-left: 40px\;"><strong>Your Topic of Comment</strong></p>
<p style="padding-left: 40px\;"><strong>Any Organization You Represent</strong></p>
<p><strong>After the district receives your email request to speak, you will receive a confirmation email. Bring the email to the meeting.</strong></p>
<div>&nbsp\;</div>
</div>
<h3 style="text-align: center\;"><span style="text-decoration: underline\;"><strong>We Make it Simple With These Links</strong></span></h3>
<p><strong><a href="https://www.momsforliberty.org/my_content/uploads/2024/04/Title-IX-template-letter-for-school-boards.docx.zip" target="_blank" rel="noopener noreferrer">Template language</a> to use in your message.</strong></p>
<p><strong>Ask the board to create a resolution similar to this <a href="https://files.constantcontact.com/027f8fde801/38e06eeb-3b11-4ff6-a2dc-33dd1e723dd1.docx?rdr=true" target="_blank" rel="noopener noreferrer">template Resolution</a>.</strong></p>
<p><strong>Inform the board that the changes should not be implemented because:</strong></p>
<p style="padding-left: 40px\;"><strong>Numerous states, <a href="https://content.govdelivery.com/attachments/INAG/2024/04/30/file_attachments/2863214/Complaint%20-%20FINAL,1.42.pdf" target="_blank" rel="noopener noreferrer">including Tennessee</a>, have filed lawsuits against the Title IX changes.</strong></p>
<p style="padding-left: 40px\;"><strong>Other states are taking action to halt implementation and we should follow their lead.</strong></p>
<p style="padding-left: 80px\;"><strong><a href="https://www.momsforliberty.org/my_content/uploads/2024/05/Florida-Title-IX-Response.pdf" target="_blank" rel="noopener noreferrer">Florida </a></strong></p>
<p style="padding-left: 80px\;"><strong><a href="https://www.momsforliberty.org/my_content/uploads/2024/05/Louisiana-Cade-Brumley-letter-to-districts-4-22-2024.jpg" target="_blank" rel="noopener noreferrer">Louisiana</a></strong></p>
<p style="padding-left: 80px\;"><strong><a href="https://www.momsforliberty.org/my_content/uploads/2024/05/Montana-Title-IX-Response.jpeg" target="_blank" rel="noopener noreferrer">Montana</a></strong></p>
<p style="padding-left: 80px\;"><strong><a href="https://www.momsforliberty.org/my_content/uploads/2024/05/Oklahoma-Title-IX-Response.pdf" target="_blank" rel="noopener noreferrer">Oklahoma</a></strong></p>
<p style="padding-left: 80px\;"><strong><a href="https://www.momsforliberty.org/my_content/uploads/2024/05/South-Carolina-Title-IX-Response-4-23-2024.pdf" target="_blank" rel="noopener noreferrer">South Carolina</a></strong></p>
<p><strong>To learn more about the recent Title IX changes:&nbsp\; <a href="https://www.momsforliberty.org/title9/">https://www.momsforliberty.org/title9/</a></strong></p>
<p><strong>You can attend or watch the livestream here: <a href="https://www.youtube.com/watch?v=4vz4h_txbbI">https://www.youtube.com/watch?v=4vz4h_txbbI</a></strong></p></div><div>--- This iCal file does *NOT* confirm registration.Event details subject to change. ---</div><div>--- Tendenci&reg\; Software by <a href="https://www.tendenci.com">tendenci.com</a> - The Open Source AMS for Associations ---</div>
SUMMARY:School Board Meeting - May 2024 - Call to Action
PRIORITY:5
CLASS:PUBLIC
BEGIN:VALARM
TRIGGER:-PT30M
ACTION:DISPLAY
DESCRIPTION:Reminder
END:VALARM
END:VEVENT
END:VCALENDAR
