BEGIN:VCALENDAR
PRODID:-//Tendenci - The Open Source AMS for Associations//Tendenci Codebase 12 MIMEDIR//EN
VERSION:2.0
METHOD:PUBLISH
BEGIN:VEVENT
DTSTAMP:20260421T173326Z
ORGANIZER:
DTSTART:20240529T180000Z
DTEND:20240529T193000Z
LOCATION:The Phoenix
TRANSP:OPAQUE
SEQUENCE:0
UID:uid2537@portal.momsforliberty.org
DESCRIPTION:--- This iCal file does *NOT* confirm registration.\r\nEvent details subject to change. ---\r\nhttps://portal.momsforliberty.org/events/2537/\r\n\r\nEvent Title: Fireside Chat Event\r\nStart Date / Time: May 29, 2024 14:00 PM US/Eastern\r\nLocation: The Phoenix\r\nGoogle\r\nhttp://maps.google.com/maps?q=515+W+Mauch+Chunk+Street,Nazareth,PA,18064\r\n\r\nForecast\nhttp://www.weather.com/weather/monthly/18064\r\n\r\nJoin us for a conversation around education today, the impact of boys in girls sports and locker rooms and of the new Title IX changes. Special guests include Senate Candidate Dave McCormick and Former Education Secretary Betsy DeVos. \r\n \r\nRegistration is required! Seating is limited!--- This iCal file does *NOT* confirm registration.Event details subject to change. ---\r\n\r\n--- By Tendenci - The Open Source AMS for Associations ---\r\n
X-ALT-DESC;FMTTYPE=text/html:<div>--- This iCal file does *NOT* confirm registration.Event details subject to change. ---</div><h1>Event Title: Fireside Chat Event</h1><div>https://portal.momsforliberty.org/events/2537/</div><br /><div>When: May 29, 2024 14:00 PM US/Eastern</div><br />The Phoenix<br />515 W Mauch Chunk Street<br />Nazareth, PA 18064<br /><div>http://maps.google.com/maps?q=515+W+Mauch+Chunk+Street,Nazareth,PA,18064</div><br /><div>Forecast: http://www.weather.com/weather/monthly/18064</div><br /><br /><div><p>Join us for a conversation around education today, the impact of boys in girls sports and locker rooms and of the new Title IX changes. Special guests include Senate Candidate Dave McCormick and Former Education Secretary Betsy DeVos.&nbsp\;</p>
<p>&nbsp\;</p>
<p>Registration is required! Seating is limited!</p></div><div>--- This iCal file does *NOT* confirm registration.Event details subject to change. ---</div><div>--- Tendenci&reg\; Software by <a href="https://www.tendenci.com">tendenci.com</a> - The Open Source AMS for Associations ---</div>
SUMMARY:Fireside Chat Event
PRIORITY:5
CLASS:PUBLIC
BEGIN:VALARM
TRIGGER:-PT30M
ACTION:DISPLAY
DESCRIPTION:Reminder
END:VALARM
END:VEVENT
END:VCALENDAR
