BEGIN:VCALENDAR
PRODID:-//Tendenci - The Open Source AMS for Associations//Tendenci Codebase 12 MIMEDIR//EN
VERSION:2.0
METHOD:PUBLISH
BEGIN:VEVENT
DTSTAMP:20260419T191419Z
ORGANIZER:
DTSTART:20240611T183000Z
DTEND:20240611T210000Z
LOCATION:
TRANSP:OPAQUE
SEQUENCE:0
UID:uid2554@portal.momsforliberty.org
DESCRIPTION:--- This iCal file does *NOT* confirm registration.\r\nEvent details subject to change. ---\r\nhttps://portal.momsforliberty.org/events/2554/\r\n\r\nEvent Title: JUNE CHAPTER MEETING/SPECIAL MOVIE VIEWING\r\nStart Date / Time: Jun 11, 2024 18:30 PM UTC\r\nLocation: \r\nGoogle\r\nhttp://maps.google.com/maps?q=1501+Leander+Drive,Leander,TX,78641\r\n\r\nForecast\nhttp://www.weather.com/weather/monthly/78641\r\n\r\nJoin Moms for Liberty Williamson County for a special viewing of DYSPHORIA, a new movie by Fearless Features, the producers of THE MIND POLLUTERS.\r\n\r\nDiscover the shocking truths behind the LGBTQ "Transgender" agenda in our powerful new documentary, "Dysphoria".  This riveting new movie shares the stories of three families, all ambushed by the LGBTQ agenda. \r\nDive into the Communist roots of this movement, its impact on schools and the medical field, and the hidden connections with Antifa.\r\nPlease share this event with concerned Moms &amp\; Dads, Grandparents &amp\; Concerned Citizens .  RSVP required.--- This iCal file does *NOT* confirm registration.Event details subject to change. ---\r\n\r\n--- By Tendenci - The Open Source AMS for Associations ---\r\n
X-ALT-DESC;FMTTYPE=text/html:<div>--- This iCal file does *NOT* confirm registration.Event details subject to change. ---</div><h1>Event Title: JUNE CHAPTER MEETING/SPECIAL MOVIE VIEWING</h1><div>https://portal.momsforliberty.org/events/2554/</div><br /><div>When: Jun 11, 2024 18:30 PM UTC</div><br /><br />1501 Leander Drive<br />Leander, TX 78641<br /><div>http://maps.google.com/maps?q=1501+Leander+Drive,Leander,TX,78641</div><br /><div>Forecast: http://www.weather.com/weather/monthly/78641</div><br /><br /><div><p>Join Moms for Liberty Williamson County for a special viewing of <span style="background-color: #ffff99\;">DYSPHORIA</span>, a new movie by Fearless Features, the producers of THE MIND POLLUTERS.</p>
<p></p>
<p class="font_8 wixui-rich-text__text"><span class="wixui-rich-text__text">Discover the shocking truths behind the LGBTQ "Transgender"</span><span class="wixui-rich-text__text">&nbsp\;agenda in our powerful new documentary, "Dysphoria". &nbsp\;This riveting new movie shares the stories of three families, all ambushed by the LGBTQ agenda.&nbsp\;</span></p>
<p class="font_8 wixui-rich-text__text"><span class="wixui-rich-text__text">Dive into the Communist roots of this movement, its impact on schools and the medical field, and the hidden connections with Antifa.</span></p>
<p class="font_8 wixui-rich-text__text"><span class="wixui-rich-text__text">Please share this event with concerned Moms &amp\; Dads, Grandparents &amp\; Concerned Citizens . &nbsp\;RSVP required.</span></p></div><div>--- This iCal file does *NOT* confirm registration.Event details subject to change. ---</div><div>--- Tendenci&reg\; Software by <a href="https://www.tendenci.com">tendenci.com</a> - The Open Source AMS for Associations ---</div>
SUMMARY:JUNE CHAPTER MEETING/SPECIAL MOVIE VIEWING
PRIORITY:5
CLASS:PUBLIC
BEGIN:VALARM
TRIGGER:-PT30M
ACTION:DISPLAY
DESCRIPTION:Reminder
END:VALARM
END:VEVENT
END:VCALENDAR
