BEGIN:VCALENDAR
PRODID:-//Tendenci - The Open Source AMS for Associations//Tendenci Codebase 12 MIMEDIR//EN
VERSION:2.0
METHOD:PUBLISH
BEGIN:VEVENT
DTSTAMP:20260422T134225Z
ORGANIZER:
DTSTART:20240606T223000Z
DTEND:20240607T010000Z
LOCATION:
TRANSP:OPAQUE
SEQUENCE:0
UID:uid2559@portal.momsforliberty.org
DESCRIPTION:--- This iCal file does *NOT* confirm registration.\r\nEvent details subject to change. ---\r\nhttps://portal.momsforliberty.org/events/2559/\r\n\r\nEvent Title: Virtual Watch Party:  "The War on Children"\r\nStart Date / Time: Jun 06, 2024 18:30 PM US/Eastern\r\nLocation: \r\nSpeaker: Robby Starbuck, Landon Starbuck\r\nJune 6th @ 6:30 PM EDT [National Online Event] | As we continue our training series addressing kids on cell phones, we hope you'll join us for an online watch party of the new documentary "The War on Children," a comprehensive expos&eacute\; on the battle for the minds of our youngest generations. This is your opportunity to watch this important film for FREE, engage in live commentary throughout with fellow joyful warriors, and to ask your questions of producers Robby and Landon Starbuck at the end during Live Q&amp\;A! \r\nAccess the link to this event via https://portal.momsforliberty.org/member-exclusives/\r\n --- This iCal file does *NOT* confirm registration.Event details subject to change. ---\r\n\r\n--- By Tendenci - The Open Source AMS for Associations ---\r\n
X-ALT-DESC;FMTTYPE=text/html:<div>--- This iCal file does *NOT* confirm registration.Event details subject to change. ---</div><h1>Event Title: Virtual Watch Party:  "The War on Children"</h1><div>https://portal.momsforliberty.org/events/2559/</div><br /><div>When: Jun 06, 2024 18:30 PM US/Eastern</div><div>Speaker: Robby Starbuck, Landon Starbuck</div><br /><div><p><strong>June 6th @ 6:30 PM EDT</strong> [National Online Event] | As we continue our training series addressing kids on cell phones, we hope you'll join us for an online watch party of the new documentary "<a class="c-link" href="https://thewaronchildren.com/#trailer" target="_blank" rel="noopener noreferrer" data-stringify-link="https://thewaronchildren.com/#trailer" data-sk="tooltip_parent">The War on Children,</a>" a comprehensive expos&eacute\; on the battle for the minds of our youngest generations. This is your opportunity to watch this important film for FREE, engage in live commentary throughout with fellow joyful warriors, and to ask your questions of producers Robby and Landon Starbuck at the end during Live Q&amp\;A!&nbsp\;</p>
<p>Access the link to this event via&nbsp\;<a href="https://portal.momsforliberty.org/member-exclusives/">https://portal.momsforliberty.org/member-exclusives/</a></p>
<p>&nbsp\;</p></div><div>--- This iCal file does *NOT* confirm registration.Event details subject to change. ---</div><div>--- Tendenci&reg\; Software by <a href="https://www.tendenci.com">tendenci.com</a> - The Open Source AMS for Associations ---</div>
SUMMARY:Virtual Watch Party:  "The War on Children"
PRIORITY:5
CLASS:PUBLIC
BEGIN:VALARM
TRIGGER:-PT30M
ACTION:DISPLAY
DESCRIPTION:Reminder
END:VALARM
END:VEVENT
END:VCALENDAR
