BEGIN:VCALENDAR
PRODID:-//Tendenci - The Open Source AMS for Associations//Tendenci Codebase 12 MIMEDIR//EN
VERSION:2.0
METHOD:PUBLISH
BEGIN:VEVENT
DTSTAMP:20260423T052051Z
ORGANIZER:Moms for Liberty Resource & Training Department
DTSTART:20240708T233000Z
DTEND:20240709T010000Z
LOCATION:
TRANSP:OPAQUE
SEQUENCE:0
UID:uid2560@portal.momsforliberty.org
DESCRIPTION:--- This iCal file does *NOT* confirm registration.\r\nEvent details subject to change. ---\r\nhttps://portal.momsforliberty.org/events/2560/\r\n\r\nEvent Title: Virtual Watch Party:  "Killing America"\r\nStart Date / Time: Jul 08, 2024 19:30 PM US/Eastern\r\nLocation: \r\nSpeaker: Brooke Weiss, Eli Steele, Brandy Shufutinsky\r\nJuly 8th @ 7:30 PM EDT [National Online Event] | The event and aftermath of the October 7th attack on Israel has revealed a shocking undercurrent of Antisemitism in our schools amongst students, teachers and staff.  Join your fellow joyful warriors as we screen Eli Steele's "Killing America: Can America's Schools Be Saved," a 38 minute documentary that shows how we got to this dark place in the halls of our public high schools.  This event will be opened by Brooke Weiss, the Jewish Chapter Chair of Moms for Liberty Mecklenburg, North Carolina, and will conclude with Live Q&amp\;A with Brandy Shufutinsky of the Jewish Institute for Liberal Values (JILV.org) and the filmmaker, Eli Steele.\r\nAccess the link to this event via https://portal.momsforliberty.org/member-exclusives/--- This iCal file does *NOT* confirm registration.Event details subject to change. ---\r\n\r\n--- By Tendenci - The Open Source AMS for Associations ---\r\n
X-ALT-DESC;FMTTYPE=text/html:<div>--- This iCal file does *NOT* confirm registration.Event details subject to change. ---</div><h1>Event Title: Virtual Watch Party:  "Killing America"</h1><div>https://portal.momsforliberty.org/events/2560/</div><br /><div>When: Jul 08, 2024 19:30 PM US/Eastern</div><div>Speaker: Brooke Weiss, Eli Steele, Brandy Shufutinsky</div><br /><div><p><strong>July 8th @ 7:30 PM EDT [National Online Event]</strong> | The event and aftermath of the October 7th attack on Israel has revealed a shocking undercurrent of Antisemitism in our schools amongst students, teachers and staff. &nbsp\;Join your fellow joyful warriors as we screen Eli Steele's "<a href="https://youtu.be/q2l3KX2DycE?si=lJWSeuPkI2rr_bcJ">Killing America: Can America's Schools Be Saved</a>," a 38 minute documentary that shows how we got to this dark place in the halls of our public high schools. &nbsp\;This event will be opened by Brooke Weiss, the Jewish Chapter Chair of Moms for Liberty Mecklenburg, North Carolina, and will conclude with Live Q&amp\;A with Brandy Shufutinsky of the Jewish Institute for Liberal Values (JILV.org) and the filmmaker, Eli Steele.</p>
<p>Access the link to this event via&nbsp\;<a href="https://portal.momsforliberty.org/member-exclusives/">https://portal.momsforliberty.org/member-exclusives/</a></p></div><div>--- This iCal file does *NOT* confirm registration.Event details subject to change. ---</div><div>--- Tendenci&reg\; Software by <a href="https://www.tendenci.com">tendenci.com</a> - The Open Source AMS for Associations ---</div>
SUMMARY:Virtual Watch Party:  "Killing America"
PRIORITY:5
CLASS:PUBLIC
BEGIN:VALARM
TRIGGER:-PT30M
ACTION:DISPLAY
DESCRIPTION:Reminder
END:VALARM
END:VEVENT
END:VCALENDAR
