BEGIN:VCALENDAR
PRODID:-//Tendenci - The Open Source AMS for Associations//Tendenci Codebase 12 MIMEDIR//EN
VERSION:2.0
METHOD:PUBLISH
BEGIN:VEVENT
DTSTAMP:20260419T162549Z
ORGANIZER:
DTSTART:20240611T180000Z
DTEND:20240611T200000Z
LOCATION:Clubhouse
TRANSP:OPAQUE
SEQUENCE:0
UID:uid2569@portal.momsforliberty.org
DESCRIPTION:--- This iCal file does *NOT* confirm registration.\r\nEvent details subject to change. ---\r\nhttps://portal.momsforliberty.org/events/2569/\r\n\r\nEvent Title: June 11 Meeting\r\nStart Date / Time: Jun 11, 2024 18:00 PM UTC\r\nLocation: Clubhouse\r\nGoogle\r\nhttp://maps.google.com/maps?q=200+Waterbury+Circle,Franklin,TN\r\n\r\nForecast\nhttp://www.weather.com/weather/monthly/\r\n\r\nJoin us as we enjoy refreshments, socialize, and make a plan to help elect school board candidates who will support students and teachers, promote strong foundational education principles, defend parental rights, encourage unity instead of division, and support a safe environment for students and teachers.\r\nThe August 1 election will determine who serves as board members for six of the twelve districts in Williamson County.  School board members have a great deal of power over the education system and vote on issues that directly impact you and your family.  It is important that the best candidates win!  \r\nHELP MAKE THAT HAPPEN!\r\n \r\nIMPORTANT ELECTION INFO:\r\nLast Day to Register: Tuesday, July 2\r\nEarly Voting: July 12 through July 27\r\nElection Day - Thursday, August 1\r\nTo register to vote/update your address click here.\r\nTo confirm you are registered to vote in Tennessee click here.\r\nWilliamson County Election Commission\r\nIf you or someone you know moved from another state, be sure to contact the county/state where previously registered and cancel the old voting registration.  This will help clean up the voter rolls and prevent vote fraud.  \r\n \r\nIf you have questions, please email us at secretary@momsforlibertywc.org.\r\n\r\n --- This iCal file does *NOT* confirm registration.Event details subject to change. ---\r\n\r\n--- By Tendenci - The Open Source AMS for Associations ---\r\n
X-ALT-DESC;FMTTYPE=text/html:<div>--- This iCal file does *NOT* confirm registration.Event details subject to change. ---</div><h1>Event Title: June 11 Meeting</h1><div>https://portal.momsforliberty.org/events/2569/</div><br /><div>When: Jun 11, 2024 18:00 PM UTC</div><br />Clubhouse<br />200 Waterbury Circle<br />Franklin, TN<br /><div>http://maps.google.com/maps?q=200+Waterbury+Circle,Franklin,TN</div><br /><div>Forecast: http://www.weather.com/weather/monthly/</div><br /><br /><div><p><strong>Join us as we enjoy refreshments, socialize, and make a plan to help elect school board candidates who will support students and teachers, promote strong foundational education principles, defend parental rights, encourage unity instead of division, and support a safe environment for students and teachers.</strong></p>
<p><strong>The August 1 election will determine who serves as board members for six of the twelve districts in Williamson County.&nbsp\; </strong><strong>School board members have a great deal of power over the education system and vote on issues that directly impact you and your family.&nbsp\; </strong><strong>It is important that the best candidates win!&nbsp\; </strong></p>
<p style="text-align: center\;"><strong>HELP MAKE THAT HAPPEN!</strong></p>
<p style="text-align: center\;">&nbsp\;</p>
<p style="text-align: left\;" align="center"><strong>IMPORTANT ELECTION INFO:</strong></p>
<p><strong>Last Day to Register: Tuesday, July 2</strong></p>
<p><strong>Early Voting: July 12&nbsp\;through July 27</strong></p>
<p><strong>Election Day - Thursday, August 1</strong></p>
<p><strong><a href="https://williamsoncounty-tn.gov/184/Voter-Registration-Change-of-Address" target="_blank" rel="noopener noreferrer">To register to vote/update your address click here</a>.</strong></p>
<p><strong><a href="https://sos.tn.gov/elections/faqs/am-i-registered-to-vote" target="_blank" rel="noopener noreferrer">To confirm you are registered to vote in Tennessee click here</a><a href="https://sos.tn.gov/elections/faqs/am-i-registered-to-vote" target="_blank" rel="noopener noreferrer">.</a></strong></p>
<p><strong><a href="https://williamsoncounty-tn.gov/40/Election-Commission">Williamson County Election Commission</a></strong></p>
<p><strong>If you or someone you know moved from another state, be sure to contact the county/state where previously registered and cancel the old voting registration.&nbsp\; This will help clean up the voter rolls and prevent vote fraud. &nbsp\;</strong></p>
<p>&nbsp\;</p>
<p><strong>If you have questions, please email us at <a href="secretary@momsforlibertywc.org">secretary@momsforlibertywc.org</a>.</strong></p>
<hr />
<p>&nbsp\;</p></div><div>--- This iCal file does *NOT* confirm registration.Event details subject to change. ---</div><div>--- Tendenci&reg\; Software by <a href="https://www.tendenci.com">tendenci.com</a> - The Open Source AMS for Associations ---</div>
SUMMARY:June 11 Meeting
PRIORITY:5
CLASS:PUBLIC
BEGIN:VALARM
TRIGGER:-PT30M
ACTION:DISPLAY
DESCRIPTION:Reminder
END:VALARM
END:VEVENT
END:VCALENDAR
