BEGIN:VCALENDAR
PRODID:-//Tendenci - The Open Source AMS for Associations//Tendenci Codebase 12 MIMEDIR//EN
VERSION:2.0
METHOD:PUBLISH
BEGIN:VEVENT
DTSTAMP:20260421T112255Z
ORGANIZER:
DTSTART:20240724T220000Z
DTEND:20240725T000000Z
LOCATION:Sophie's Grill & Bar
TRANSP:OPAQUE
SEQUENCE:0
UID:uid2592@portal.momsforliberty.org
DESCRIPTION:--- This iCal file does *NOT* confirm registration.\r\nEvent details subject to change. ---\r\nhttps://portal.momsforliberty.org/events/2592/\r\n\r\nEvent Title: July Chapter Meeting - Title IX Changes (The Ultimate Betrayal)\r\nStart Date / Time: Jul 24, 2024 18:00 PM US/Eastern\r\nLocation: Sophie's Grill & Bar\r\nSpeaker: Staci Metcalf\r\nGoogle\r\nhttp://maps.google.com/maps?q=2734+NC-55,Cary,NC,27519\r\n\r\nForecast\nhttp://www.weather.com/weather/monthly/27519\r\n\r\nJoin us Wednesday, July 24 for our monthly chapter meeting discussing Title IX. The radical Title IX  rule changes decimated the definition biological sex, your child's rights to privacy, free speech, religious liberty and your parental rights. These rules, effective August 1, 2024 are a direct attack on our families, parental rights and the US Constitution. Find out what this means and how the recent court injuction affects you and your children.\r\n\r\nOrder Dinner from 6-6:30pm\r\nMeeting begins at 6:30pm\r\n\r\n \r\nYou must register to attend\r\nWhen registering, you must indicate your first and last name along with valid email address. \r\n \r\nQuestions?\r\nEmail Moms4LibertyWakeNC@gmail.com or Text 919-228-8340--- This iCal file does *NOT* confirm registration.Event details subject to change. ---\r\n\r\n--- By Tendenci - The Open Source AMS for Associations ---\r\n
X-ALT-DESC;FMTTYPE=text/html:<div>--- This iCal file does *NOT* confirm registration.Event details subject to change. ---</div><h1>Event Title: July Chapter Meeting - Title IX Changes (The Ultimate Betrayal)</h1><div>https://portal.momsforliberty.org/events/2592/</div><br /><div>When: Jul 24, 2024 18:00 PM US/Eastern</div><div>Speaker: Staci Metcalf</div><br />Sophie's Grill & Bar<br />2734 NC-55<br />Cary, NC 27519<br /><div>http://maps.google.com/maps?q=2734+NC-55,Cary,NC,27519</div><br /><div>Forecast: http://www.weather.com/weather/monthly/27519</div><br /><br /><div><p>Join us Wednesday, July 24 for our monthly chapter meeting discussing Title IX. The radical Title IX&nbsp\; rule changes decimated the definition biological sex, your child's rights to privacy, free speech, religious liberty and your parental rights. These rules, effective August 1, 2024 are a direct attack on our families, parental rights and the US Constitution. Find out what this means and how the recent court injuction affects you and your children.</p>
<ul>
<li>Order Dinner from 6-6:30pm</li>
<li>Meeting begins at 6:30pm</li>
</ul>
<p>&nbsp\;</p>
<p><strong>You must register to attend</strong></p>
<p>When registering, you must indicate your first and last name along with valid email address.&nbsp\;</p>
<p>&nbsp\;</p>
<p>Questions?</p>
<p>Email <a href="mailto:Moms4LibertyWakeNC@gmail.com">Moms4LibertyWakeNC@gmail.com</a>&nbsp\;or Text 919-228-8340</p></div><div>--- This iCal file does *NOT* confirm registration.Event details subject to change. ---</div><div>--- Tendenci&reg\; Software by <a href="https://www.tendenci.com">tendenci.com</a> - The Open Source AMS for Associations ---</div>
SUMMARY:July Chapter Meeting - Title IX Changes (The Ultimate Betrayal)
PRIORITY:5
CLASS:PUBLIC
BEGIN:VALARM
TRIGGER:-PT30M
ACTION:DISPLAY
DESCRIPTION:Reminder
END:VALARM
END:VEVENT
END:VCALENDAR
