BEGIN:VCALENDAR
PRODID:-//Tendenci - The Open Source AMS for Associations//Tendenci Codebase 12 MIMEDIR//EN
VERSION:2.0
METHOD:PUBLISH
BEGIN:VEVENT
DTSTAMP:20260426T000106Z
ORGANIZER:
DTSTART:20240709T233000Z
DTEND:20240710T013000Z
LOCATION:
TRANSP:OPAQUE
SEQUENCE:0
UID:uid2597@portal.momsforliberty.org
DESCRIPTION:--- This iCal file does *NOT* confirm registration.\r\nEvent details subject to change. ---\r\nhttps://portal.momsforliberty.org/events/2597/\r\n\r\nEvent Title: July Chapter Meeting\r\nStart Date / Time: Jul 09, 2024 18:30 PM America/Chicago\r\nLocation: \r\nGoogle\r\nhttp://maps.google.com/maps?q=1530+N+I-35+Frontage+Rd,Round Rock,TX,78664\r\n\r\nForecast\nhttp://www.weather.com/weather/monthly/78664\r\n\r\nMembers and Guests,\r\nJoin us for networking and informative presentations on how to advocate for parental rights and the education of children in our county, state, and across the country.\r\nThis month we will update our Members and Guests on:\r\n\r\nTitle IX wins! (injunctions that will halt the Biden Administration's disasterous rule)\r\nSchool Board candidates/elections\r\nOpt Out Forms for your child (protecting them from harmful content) for the upcoming school year\r\n\r\nThere is no cost to attend, but you are encouraged to purchase food and drinks to support our venue.\r\nThank you for letting us know you are coming so that we can ensure we have proper seating.  RSVP required.--- This iCal file does *NOT* confirm registration.Event details subject to change. ---\r\n\r\n--- By Tendenci - The Open Source AMS for Associations ---\r\n
X-ALT-DESC;FMTTYPE=text/html:<div>--- This iCal file does *NOT* confirm registration.Event details subject to change. ---</div><h1>Event Title: July Chapter Meeting</h1><div>https://portal.momsforliberty.org/events/2597/</div><br /><div>When: Jul 09, 2024 18:30 PM America/Chicago</div><br /><br />1530 N I-35 Frontage Rd<br />Round Rock, TX 78664<br /><div>http://maps.google.com/maps?q=1530+N+I-35+Frontage+Rd,Round Rock,TX,78664</div><br /><div>Forecast: http://www.weather.com/weather/monthly/78664</div><br /><br /><div><p>Members and Guests,</p>
<p>Join us for networking and informative presentations on how to advocate for parental rights and the education of children in our county, state, and across the country.</p>
<p>This month we will update our Members and Guests on:</p>
<ul>
<li>Title IX wins! (injunctions that will halt the Biden Administration's disasterous rule)</li>
<li>School Board candidates/elections</li>
<li>Opt Out Forms for your child (protecting them from harmful content) for the upcoming school year</li>
</ul>
<p>There is no cost to attend, but you are encouraged to purchase food and drinks to support our venue.</p>
<p>Thank you for letting us know you are coming so that we can ensure we have proper seating. &nbsp\;RSVP required.</p></div><div>--- This iCal file does *NOT* confirm registration.Event details subject to change. ---</div><div>--- Tendenci&reg\; Software by <a href="https://www.tendenci.com">tendenci.com</a> - The Open Source AMS for Associations ---</div>
SUMMARY:July Chapter Meeting
PRIORITY:5
CLASS:PUBLIC
BEGIN:VALARM
TRIGGER:-PT30M
ACTION:DISPLAY
DESCRIPTION:Reminder
END:VALARM
END:VEVENT
END:VCALENDAR
