BEGIN:VCALENDAR
PRODID:-//Tendenci - The Open Source AMS for Associations//Tendenci Codebase 12 MIMEDIR//EN
VERSION:2.0
METHOD:PUBLISH
BEGIN:VEVENT
DTSTAMP:20260422T154457Z
ORGANIZER:
DTSTART:20240808T230000Z
DTEND:20240809T003000Z
LOCATION:Tremont Community Center
TRANSP:OPAQUE
SEQUENCE:0
UID:uid2654@portal.momsforliberty.org
DESCRIPTION:--- This iCal file does *NOT* confirm registration.\r\nEvent details subject to change. ---\r\nhttps://portal.momsforliberty.org/events/2654/\r\n\r\nEvent Title: August Monthly Meeting - Moms for Liberty of Tazewell County\r\nStart Date / Time: Aug 08, 2024 18:00 PM America/Chicago\r\nLocation: Tremont Community Center\r\nGoogle\r\nhttp://maps.google.com/maps?q=216+S+Sampson+St,Tremont,IL,61568\r\n\r\nForecast\nhttp://www.weather.com/weather/monthly/61568\r\n\r\nAugust's agenda will be:\r\n\r\nUpdates &ndash\;Community Outreach Report &ndash\;School District Teams\r\nInjunction to prevent Biden&rsquo\;s Title IX\r\nUpcoming Events\r\n--- This iCal file does *NOT* confirm registration.Event details subject to change. ---\r\n\r\n--- By Tendenci - The Open Source AMS for Associations ---\r\n
X-ALT-DESC;FMTTYPE=text/html:<div>--- This iCal file does *NOT* confirm registration.Event details subject to change. ---</div><h1>Event Title: August Monthly Meeting - Moms for Liberty of Tazewell County</h1><div>https://portal.momsforliberty.org/events/2654/</div><br /><div>When: Aug 08, 2024 18:00 PM America/Chicago</div><br />Tremont Community Center<br />216 S Sampson St<br />Tremont, IL 61568<br /><div>http://maps.google.com/maps?q=216+S+Sampson+St,Tremont,IL,61568</div><br /><div>Forecast: http://www.weather.com/weather/monthly/61568</div><br /><br /><div><p>August's agenda will be:</p>
<ul>
<li>Updates<br /> &ndash\;Community Outreach Report<br /> &ndash\;School District Teams</li>
<li>Injunction to prevent Biden&rsquo\;s Title IX</li>
<li>Upcoming Events</li>
</ul></div><div>--- This iCal file does *NOT* confirm registration.Event details subject to change. ---</div><div>--- Tendenci&reg\; Software by <a href="https://www.tendenci.com">tendenci.com</a> - The Open Source AMS for Associations ---</div>
SUMMARY:August Monthly Meeting - Moms for Liberty of Tazewell County
PRIORITY:5
CLASS:PUBLIC
BEGIN:VALARM
TRIGGER:-PT30M
ACTION:DISPLAY
DESCRIPTION:Reminder
END:VALARM
END:VEVENT
END:VCALENDAR
