BEGIN:VCALENDAR
PRODID:-//Tendenci - The Open Source AMS for Associations//Tendenci Codebase 12 MIMEDIR//EN
VERSION:2.0
METHOD:PUBLISH
BEGIN:VEVENT
DTSTAMP:20260419T231125Z
ORGANIZER:Virg Cihla, Chair
DTSTART:20240912T230000Z
DTEND:20240913T003000Z
LOCATION:Tremont Community Center
TRANSP:OPAQUE
SEQUENCE:0
UID:uid2656@portal.momsforliberty.org
DESCRIPTION:--- This iCal file does *NOT* confirm registration.\r\nEvent details subject to change. ---\r\nhttps://portal.momsforliberty.org/events/2656/\r\n\r\nEvent Title: September Public Meeting\r\nStart Date / Time: Sep 12, 2024 18:00 PM US/Central\r\nLocation: Tremont Community Center\r\nGoogle\r\nhttp://maps.google.com/maps?q=216+S+Sampson+St,Tremont,IL,61568\r\n\r\nForecast\nhttp://www.weather.com/weather/monthly/61568\r\n\r\nWe will post the agenda before the meeting--- This iCal file does *NOT* confirm registration.Event details subject to change. ---\r\n\r\n--- By Tendenci - The Open Source AMS for Associations ---\r\n
X-ALT-DESC;FMTTYPE=text/html:<div>--- This iCal file does *NOT* confirm registration.Event details subject to change. ---</div><h1>Event Title: September Public Meeting</h1><div>https://portal.momsforliberty.org/events/2656/</div><br /><div>When: Sep 12, 2024 18:00 PM US/Central</div><br />Tremont Community Center<br />216 S Sampson St<br />Tremont, IL 61568<br /><div>http://maps.google.com/maps?q=216+S+Sampson+St,Tremont,IL,61568</div><br /><div>Forecast: http://www.weather.com/weather/monthly/61568</div><br /><br /><div><p>We will post the agenda before the meeting</p></div><div>--- This iCal file does *NOT* confirm registration.Event details subject to change. ---</div><div>--- Tendenci&reg\; Software by <a href="https://www.tendenci.com">tendenci.com</a> - The Open Source AMS for Associations ---</div>
SUMMARY:September Public Meeting
PRIORITY:5
CLASS:PUBLIC
BEGIN:VALARM
TRIGGER:-PT30M
ACTION:DISPLAY
DESCRIPTION:Reminder
END:VALARM
END:VEVENT
END:VCALENDAR
