BEGIN:VCALENDAR
PRODID:-//Tendenci - The Open Source AMS for Associations//Tendenci Codebase 12 MIMEDIR//EN
VERSION:2.0
METHOD:PUBLISH
BEGIN:VEVENT
DTSTAMP:20260421T074915Z
ORGANIZER:
DTSTART:20241023T223000Z
DTEND:20241024T000000Z
LOCATION:TBA
TRANSP:OPAQUE
SEQUENCE:0
UID:uid2671@portal.momsforliberty.org
DESCRIPTION:--- This iCal file does *NOT* confirm registration.\r\nEvent details subject to change. ---\r\nhttps://portal.momsforliberty.org/events/2671/\r\n\r\nEvent Title: October Chapter Meeting - Meet the Candidates\r\nStart Date / Time: Oct 23, 2024 18:30 PM US/Eastern\r\nLocation: TBA\r\nJoin us Wednesday, October 23 for our monthly chapter meeting beginning at 6:30.\r\n \r\nAgenda\r\n\r\nWCPSS Issues\r\nPublic Records\r\nTitle IX\r\n\r\n \r\nThis meeting is open to all members and their guests. But, you must register to attend\r\nWhen registering, you must indicate your first and last name along with valid email address. \r\n \r\nQuestions?\r\nEmail Moms4LibertyWakeNC@gmail.com or Text 919-228-8340--- This iCal file does *NOT* confirm registration.Event details subject to change. ---\r\n\r\n--- By Tendenci - The Open Source AMS for Associations ---\r\n
X-ALT-DESC;FMTTYPE=text/html:<div>--- This iCal file does *NOT* confirm registration.Event details subject to change. ---</div><h1>Event Title: October Chapter Meeting - Meet the Candidates</h1><div>https://portal.momsforliberty.org/events/2671/</div><br /><div>When: Oct 23, 2024 18:30 PM US/Eastern</div><br /><div><p>Join us Wednesday, October 23 for our monthly chapter meeting beginning at 6:30.</p>
<p>&nbsp\;</p>
<p>Agenda</p>
<ul>
<li>WCPSS Issues</li>
<li>Public Records</li>
<li>Title IX</li>
</ul>
<p>&nbsp\;</p>
<p><strong>This meeting is open to all members and their guests. But, you must register to attend</strong></p>
<p>When registering, you must indicate your first and last name along with valid email address.&nbsp\;</p>
<p>&nbsp\;</p>
<p>Questions?</p>
<p>Email <a href="mailto:Moms4LibertyWakeNC@gmail.com">Moms4LibertyWakeNC@gmail.com</a>&nbsp\;or Text 919-228-8340</p></div><div>--- This iCal file does *NOT* confirm registration.Event details subject to change. ---</div><div>--- Tendenci&reg\; Software by <a href="https://www.tendenci.com">tendenci.com</a> - The Open Source AMS for Associations ---</div>
SUMMARY:October Chapter Meeting - Meet the Candidates
PRIORITY:5
CLASS:PUBLIC
BEGIN:VALARM
TRIGGER:-PT30M
ACTION:DISPLAY
DESCRIPTION:Reminder
END:VALARM
END:VEVENT
END:VCALENDAR
