BEGIN:VCALENDAR
PRODID:-//Tendenci - The Open Source AMS for Associations//Tendenci Codebase 12 MIMEDIR//EN
VERSION:2.0
METHOD:PUBLISH
BEGIN:VEVENT
DTSTAMP:20260425T235951Z
ORGANIZER:
DTSTART:20240910T233000Z
DTEND:20240911T003000Z
LOCATION:La Margarita
TRANSP:OPAQUE
SEQUENCE:0
UID:uid2677@portal.momsforliberty.org
DESCRIPTION:--- This iCal file does *NOT* confirm registration.\r\nEvent details subject to change. ---\r\nhttps://portal.momsforliberty.org/events/2677/\r\n\r\nEvent Title: September Chapter Meeting\r\nStart Date / Time: Sep 10, 2024 18:30 PM America/Chicago\r\nLocation: La Margarita\r\nGoogle\r\nhttp://maps.google.com/maps?q=1530+N+I-35+Frontage+Road,Round Rock,TX,78681\r\n\r\nForecast\nhttp://www.weather.com/weather/monthly/78681\r\n\r\nJoin us on September 10th for great food &amp\; drinks, chapter and district upates, and to vote on school board candidate endorsements.\r\n*NOTE: Only dues-paying Voting Members will be able to vote on candidate endorsements.  Check your Membership Status in your Moms for Liberty Portal Profile to make sure your dues are paid and your membership has not expired.\r\n6:30 - Order food &amp\; socialize\r\n7:00 - Meeting called to order (Invocation, Pledges, Madison Minute)\r\n7:05 - Introduction of Elected Officials and Candidates\r\n7:15 - Education on Endorsement Process &amp\; VOTE\r\n7:25 - Announcements\r\n7:30 - Adjournment\r\n --- This iCal file does *NOT* confirm registration.Event details subject to change. ---\r\n\r\n--- By Tendenci - The Open Source AMS for Associations ---\r\n
X-ALT-DESC;FMTTYPE=text/html:<div>--- This iCal file does *NOT* confirm registration.Event details subject to change. ---</div><h1>Event Title: September Chapter Meeting</h1><div>https://portal.momsforliberty.org/events/2677/</div><br /><div>When: Sep 10, 2024 18:30 PM America/Chicago</div><br />La Margarita<br />1530 N I-35 Frontage Road<br />Round Rock, TX 78681<br /><div>http://maps.google.com/maps?q=1530+N+I-35+Frontage+Road,Round Rock,TX,78681</div><br /><div>Forecast: http://www.weather.com/weather/monthly/78681</div><br /><br /><div><p>Join us on September 10th for great food &amp\; drinks, chapter and district upates, and to vote on school board candidate endorsements.</p>
<p>*NOTE: Only dues-paying Voting Members will be able to vote on candidate endorsements. &nbsp\;Check your Membership Status in your Moms for Liberty Portal Profile to make sure your dues are paid and your membership has not expired.</p>
<p>6:30 - Order food &amp\; socialize</p>
<p>7:00 - Meeting called to order (Invocation, Pledges, Madison Minute)</p>
<p>7:05 - Introduction of Elected Officials and Candidates</p>
<p>7:15 -&nbsp\;Education on Endorsement Process &amp\; VOTE</p>
<p>7:25 - Announcements</p>
<p>7:30 - Adjournment</p>
<p>&nbsp\;</p></div><div>--- This iCal file does *NOT* confirm registration.Event details subject to change. ---</div><div>--- Tendenci&reg\; Software by <a href="https://www.tendenci.com">tendenci.com</a> - The Open Source AMS for Associations ---</div>
SUMMARY:September Chapter Meeting
PRIORITY:5
CLASS:PUBLIC
BEGIN:VALARM
TRIGGER:-PT30M
ACTION:DISPLAY
DESCRIPTION:Reminder
END:VALARM
END:VEVENT
END:VCALENDAR
