BEGIN:VCALENDAR
PRODID:-//Tendenci - The Open Source AMS for Associations//Tendenci Codebase 12 MIMEDIR//EN
VERSION:2.0
METHOD:PUBLISH
BEGIN:VEVENT
DTSTAMP:20260423T022456Z
ORGANIZER:
DTSTART:20241003T223000Z
DTEND:20241004T000000Z
LOCATION:Big Tree Wesleyan
TRANSP:OPAQUE
SEQUENCE:0
UID:uid2689@portal.momsforliberty.org
DESCRIPTION:--- This iCal file does *NOT* confirm registration.\r\nEvent details subject to change. ---\r\nhttps://portal.momsforliberty.org/events/2689/\r\n\r\nEvent Title: October 2024 Meeting\r\nStart Date / Time: Oct 03, 2024 18:30 PM US/Eastern\r\nLocation: Big Tree Wesleyan\r\nGoogle\r\nhttp://maps.google.com/maps?q=4163+Fairview+Pkwy,Blasdell,NY\r\n\r\nForecast\nhttp://www.weather.com/weather/monthly/\r\n\r\nJoin us for our first in-person meeting of the 2024-25 school year. We're excited to meet and welcome our newest members!\r\nTOPIC: The "Equal Rights Amendment" or Prop 1 on the November Ballot. What is it? Why should we care?\r\nNEW VENUE: This meeting we are hosting at a new menu - Big Tree Wesleyan Church in Blasdell, NY. Easy to access of the 90 or Skyway!--- This iCal file does *NOT* confirm registration.Event details subject to change. ---\r\n\r\n--- By Tendenci - The Open Source AMS for Associations ---\r\n
X-ALT-DESC;FMTTYPE=text/html:<div>--- This iCal file does *NOT* confirm registration.Event details subject to change. ---</div><h1>Event Title: October 2024 Meeting</h1><div>https://portal.momsforliberty.org/events/2689/</div><br /><div>When: Oct 03, 2024 18:30 PM US/Eastern</div><br />Big Tree Wesleyan<br />4163 Fairview Pkwy<br />Blasdell, NY<br /><div>http://maps.google.com/maps?q=4163+Fairview+Pkwy,Blasdell,NY</div><br /><div>Forecast: http://www.weather.com/weather/monthly/</div><br /><br /><div><p>Join us for our first in-person meeting of the 2024-25 school year. We're excited to meet and welcome our newest members!</p>
<p>TOPIC: The "Equal Rights Amendment" or Prop 1 on the November Ballot. What is it? Why should we care?</p>
<p>NEW VENUE: This meeting we are hosting at a new menu - Big Tree Wesleyan Church in Blasdell, NY. Easy to access of the 90 or Skyway!</p></div><div>--- This iCal file does *NOT* confirm registration.Event details subject to change. ---</div><div>--- Tendenci&reg\; Software by <a href="https://www.tendenci.com">tendenci.com</a> - The Open Source AMS for Associations ---</div>
SUMMARY:October 2024 Meeting
PRIORITY:5
CLASS:PUBLIC
BEGIN:VALARM
TRIGGER:-PT30M
ACTION:DISPLAY
DESCRIPTION:Reminder
END:VALARM
END:VEVENT
END:VCALENDAR
