BEGIN:VCALENDAR
PRODID:-//Tendenci - The Open Source AMS for Associations//Tendenci Codebase 12 MIMEDIR//EN
VERSION:2.0
METHOD:PUBLISH
BEGIN:VEVENT
DTSTAMP:20260420T233936Z
ORGANIZER:
DTSTART:20240921T203000Z
DTEND:20240921T223000Z
LOCATION:Mesquite Creek Outfitters
TRANSP:OPAQUE
SEQUENCE:0
UID:uid2707@portal.momsforliberty.org
DESCRIPTION:--- This iCal file does *NOT* confirm registration.\r\nEvent details subject to change. ---\r\nhttps://portal.momsforliberty.org/events/2707/\r\n\r\nEvent Title: Parental Rights Fall Fundraiser\r\nStart Date / Time: Sep 21, 2024 15:30 PM America/Chicago\r\nLocation: Mesquite Creek Outfitters\r\nGoogle\r\nhttp://maps.google.com/maps?q=704+S.+Austin+Avenue,Georgetown,TX,78626\r\n\r\nForecast\nhttp://www.weather.com/weather/monthly/78626\r\n\r\nCOURAGE IS CONTAGIOUS\r\nJoin us in for drinks and appitizers while hearing from parents and leaders in our communtiy who have been in the trenches of our local schools, advocating for their children, and pushing back on woke indoctrination.  Learn about the radical ideology that has become purvasive in the schools, and find out how to fight back. We cannot continue our mission without your generosity.\r\nAdmission: $35/Adults, $10/kids\r\nRaffle tickets: $5 each or 5 for $20\r\nPurchase tickets at:  https://forms.gle/kUN88xDCX2yWRFLf7\r\n(Scan QR code on flyer or copy and paste link in your internet browser)--- This iCal file does *NOT* confirm registration.Event details subject to change. ---\r\n\r\n--- By Tendenci - The Open Source AMS for Associations ---\r\n
X-ALT-DESC;FMTTYPE=text/html:<div>--- This iCal file does *NOT* confirm registration.Event details subject to change. ---</div><h1>Event Title: Parental Rights Fall Fundraiser</h1><div>https://portal.momsforliberty.org/events/2707/</div><br /><div>When: Sep 21, 2024 15:30 PM America/Chicago</div><br />Mesquite Creek Outfitters<br />704 S. Austin Avenue<br />Georgetown, TX 78626<br /><div>http://maps.google.com/maps?q=704+S.+Austin+Avenue,Georgetown,TX,78626</div><br /><div>Forecast: http://www.weather.com/weather/monthly/78626</div><br /><br /><div><p>COURAGE IS CONTAGIOUS</p>
<p>Join us in for drinks and appitizers while hearing from parents and leaders in our communtiy who have been in the trenches of our local schools, advocating for their children, and pushing back on woke indoctrination. &nbsp\;Learn about the radical ideology that has become purvasive in the schools, and find out how to fight back. We cannot continue our mission without your generosity.</p>
<p>Admission: $35/Adults, $10/kids</p>
<p>Raffle tickets: $5 each or 5 for $20</p>
<p>Purchase tickets at: &nbsp\;<a href="https://forms.gle/kUN88xDCX2yWRFLf7">https://forms.gle/kUN88xDCX2yWRFLf7</a></p>
<p>(Scan QR code on flyer or copy and paste link in your internet browser)</p></div><div>--- This iCal file does *NOT* confirm registration.Event details subject to change. ---</div><div>--- Tendenci&reg\; Software by <a href="https://www.tendenci.com">tendenci.com</a> - The Open Source AMS for Associations ---</div>
SUMMARY:Parental Rights Fall Fundraiser
PRIORITY:5
CLASS:PUBLIC
BEGIN:VALARM
TRIGGER:-PT30M
ACTION:DISPLAY
DESCRIPTION:Reminder
END:VALARM
END:VEVENT
END:VCALENDAR
