BEGIN:VCALENDAR
PRODID:-//Tendenci - The Open Source AMS for Associations//Tendenci Codebase 12 MIMEDIR//EN
VERSION:2.0
METHOD:PUBLISH
BEGIN:VEVENT
DTSTAMP:20260425T204036Z
ORGANIZER:
DTSTART:20241211T003000Z
DTEND:20241211T023000Z
LOCATION:La Margarita
TRANSP:OPAQUE
SEQUENCE:0
UID:uid2710@portal.momsforliberty.org
DESCRIPTION:--- This iCal file does *NOT* confirm registration.\r\nEvent details subject to change. ---\r\nhttps://portal.momsforliberty.org/events/2710/\r\n\r\nEvent Title: December Chapter Meeting\r\nStart Date / Time: Dec 10, 2024 18:30 PM America/Chicago\r\nLocation: La Margarita\r\nGoogle\r\nhttp://maps.google.com/maps?q=1530+I-35+Frontage+Road,Round Rock,TX,78681\r\n\r\nForecast\nhttp://www.weather.com/weather/monthly/78681\r\n\r\nPlease bring as many of the following items as you can to support the children at the Texas Baptist Children's Home:\r\n \r\nStocking Stuffer Ideas for Teens Gender Neutral: \r\nCandy- all flavors (movie box type only)\r\nCard Games\r\nChapstick\r\nGift cards to local fast food places (Sonic, Taco Bell, coffee shops, etc.)\r\nInsulated water bottles or coffee cups (thin design)\r\nPlastic candy canes that have candy in them\r\nSmall flashlight (with LED light)\r\nUniversal Phone Accessories\r\n(Anything else you think teen boys or girls would like)--- This iCal file does *NOT* confirm registration.Event details subject to change. ---\r\n\r\n--- By Tendenci - The Open Source AMS for Associations ---\r\n
X-ALT-DESC;FMTTYPE=text/html:<div>--- This iCal file does *NOT* confirm registration.Event details subject to change. ---</div><h1>Event Title: December Chapter Meeting</h1><div>https://portal.momsforliberty.org/events/2710/</div><br /><div>When: Dec 10, 2024 18:30 PM America/Chicago</div><br />La Margarita<br />1530 I-35 Frontage Road<br />Round Rock, TX 78681<br /><div>http://maps.google.com/maps?q=1530+I-35+Frontage+Road,Round Rock,TX,78681</div><br /><div>Forecast: http://www.weather.com/weather/monthly/78681</div><br /><br /><div><p>Please bring as many of the following items as you can to support the children at the Texas Baptist Children's Home:</p>
<p>&nbsp\;</p>
<p><strong><u>Stocking Stuffer Ideas for Teens&nbsp\;</u></strong><strong><u>Gender Neutral:&nbsp\;</u></strong></p>
<p style="font-weight: 400\;">Candy- all flavors (<em>movie box type only</em>)</p>
<p style="font-weight: 400\;">Card Games</p>
<p style="font-weight: 400\;">Chapstick</p>
<p style="font-weight: 400\;">Gift cards to local fast food places (Sonic, Taco Bell, coffee shops, etc.)</p>
<p style="font-weight: 400\;">Insulated water bottles or coffee cups (thin design)</p>
<p style="font-weight: 400\;">Plastic candy canes that have candy in them</p>
<p style="font-weight: 400\;">Small flashlight (with LED light)</p>
<p style="font-weight: 400\;">Universal Phone Accessories</p>
<p style="font-weight: 400\;">(Anything else you think teen boys or girls would like)</p></div><div>--- This iCal file does *NOT* confirm registration.Event details subject to change. ---</div><div>--- Tendenci&reg\; Software by <a href="https://www.tendenci.com">tendenci.com</a> - The Open Source AMS for Associations ---</div>
SUMMARY:December Chapter Meeting
PRIORITY:5
CLASS:PUBLIC
BEGIN:VALARM
TRIGGER:-PT30M
ACTION:DISPLAY
DESCRIPTION:Reminder
END:VALARM
END:VEVENT
END:VCALENDAR
