BEGIN:VCALENDAR
PRODID:-//Tendenci - The Open Source AMS for Associations//Tendenci Codebase 12 MIMEDIR//EN
VERSION:2.0
METHOD:PUBLISH
BEGIN:VEVENT
DTSTAMP:20260420T224009Z
ORGANIZER:
DTSTART:20241015T223000Z
DTEND:20241016T033000Z
LOCATION:Watch Party "Beneath Sheep's Clothing"
TRANSP:OPAQUE
SEQUENCE:0
UID:uid2722@portal.momsforliberty.org
DESCRIPTION:--- This iCal file does *NOT* confirm registration.\r\nEvent details subject to change. ---\r\nhttps://portal.momsforliberty.org/events/2722/\r\n\r\nEvent Title: Virtual Watch Party       "Beneath Sheep's Clothing"\r\nStart Date / Time: Oct 15, 2024 18:30 PM US/Eastern\r\nLocation: Watch Party "Beneath Sheep's Clothing"\r\nSpeaker: Julie Behling, Dr. James Lindsay\r\nJoin us on a riveting journey through Soviet history and modern America to understand the pattern of a communist takeover of culture.  Witness firsthand accounts of historical Soviet tactics to overtake education and religion.  Observe the compelling evidence that similar tactics have been at play with our schools and churches here in America - some for over a century!\r\n \r\nIn our culture-making institutions here in America, the West in general, and globally are subverted to Marxist ideologies, what comes next?  Today we stand at the precipice of history.  Please join us to watch this critical film and ask your questions of filmakers Julie Behling and Dr. James Lindsay during live Q&amp\;A afterward!\r\n \r\nEvent Watch Link:  https://vimeo.com/event/4645901\r\n \r\n**You must purchase a ticket to receive the password to view.**--- This iCal file does *NOT* confirm registration.Event details subject to change. ---\r\n\r\n--- By Tendenci - The Open Source AMS for Associations ---\r\n
X-ALT-DESC;FMTTYPE=text/html:<div>--- This iCal file does *NOT* confirm registration.Event details subject to change. ---</div><h1>Event Title: Virtual Watch Party       "Beneath Sheep's Clothing"</h1><div>https://portal.momsforliberty.org/events/2722/</div><br /><div>When: Oct 15, 2024 18:30 PM US/Eastern</div><div>Speaker: Julie Behling, Dr. James Lindsay</div><br /><div><p>Join us on a riveting journey through Soviet history and modern America to understand the pattern of a communist takeover of culture.&nbsp\; Witness firsthand accounts of historical Soviet tactics to overtake education and religion.&nbsp\; Observe the compelling evidence that similar tactics have been at play with our schools and churches here in America - some for over a century!</p>
<p>&nbsp\;</p>
<p>In our culture-making institutions here in America, the West in general, and globally are subverted to Marxist ideologies, what comes next?&nbsp\; Today we stand at the precipice of history.&nbsp\; Please join us to watch this critical film and ask your questions of filmakers Julie Behling and Dr. James Lindsay during live Q&amp\;A afterward!</p>
<p>&nbsp\;</p>
<p>Event Watch Link: &nbsp\;<a href="https://vimeo.com/event/4645901">https://vimeo.com/event/4645901</a></p>
<p>&nbsp\;</p>
<p>**You must purchase a ticket to receive the password to view.**</p></div><div>--- This iCal file does *NOT* confirm registration.Event details subject to change. ---</div><div>--- Tendenci&reg\; Software by <a href="https://www.tendenci.com">tendenci.com</a> - The Open Source AMS for Associations ---</div>
SUMMARY:Virtual Watch Party       "Beneath Sheep's Clothing"
PRIORITY:5
CLASS:PUBLIC
BEGIN:VALARM
TRIGGER:-PT30M
ACTION:DISPLAY
DESCRIPTION:Reminder
END:VALARM
END:VEVENT
END:VCALENDAR
