BEGIN:VCALENDAR
PRODID:-//Tendenci - The Open Source AMS for Associations//Tendenci Codebase 12 MIMEDIR//EN
VERSION:2.0
METHOD:PUBLISH
BEGIN:VEVENT
DTSTAMP:20260420T233829Z
ORGANIZER:Moms for Liberty - Johnson County, KS Chapter
DTSTART:20241024T233000Z
DTEND:20241025T013000Z
LOCATION:All-Kansas October 2024 Chapter Meeting
TRANSP:OPAQUE
SEQUENCE:0
UID:uid2741@portal.momsforliberty.org
DESCRIPTION:--- This iCal file does *NOT* confirm registration.\r\nEvent details subject to change. ---\r\nhttps://portal.momsforliberty.org/events/2741/\r\n\r\nEvent Title: All-Kansas October 2024 Chapter Meeting\r\nStart Date / Time: Oct 24, 2024 18:30 PM US/Central\r\nLocation: All-Kansas October 2024 Chapter Meeting\r\nSpeaker: Tina Descovich, Co-Founder of Moms for Liberty, Pat Blackburn, National Chapter Director of Moms for Liberty, Tamara James, Blue Valley Parent alum/Attorney/former Executive Team Leader Johnson County Chapter, Thad Snider\r\nRSVP NOW:\r\nEmail "momsforlibertyop@gmail.com"\r\nFirst &amp\; Last Name\r\nKansas County you reside in\r\n \r\nFirst, All-Kansas Member &amp\; Newsletter Subscriber Chapter Meeting!\r\nJoin us for this VIRTUAL gathering of Moms for Liberty members and newsletter subscribers of all types across the entire state of Kansas!\r\n \r\nHosted by the Johnson County, KS Chapter leaders, this will be be a power-packed session:\r\nTina Descovich, Co-Founder of Moms for Liberty\r\nPat Blackburn, National Chapter Director of Moms for Liberty\r\nThad Snider, JoCo Parent, Election Integrity Advocate\r\nTamara James, Blue Valley USD 299 Parent Alum, Attorney &amp\; former Executive Leader in JoCo Chapter\r\n \r\nPlus-\r\nDoor prizes!\r\nKansas School Data Report\r\nQ&amp\;A\r\n \r\nRSVP NOW!\r\nEmail "momsforlibertyop@gmail.com"\r\nFirst &amp\; Last Name\r\nKansas County you reside in\r\n --- This iCal file does *NOT* confirm registration.Event details subject to change. ---\r\n\r\n--- By Tendenci - The Open Source AMS for Associations ---\r\n
X-ALT-DESC;FMTTYPE=text/html:<div>--- This iCal file does *NOT* confirm registration.Event details subject to change. ---</div><h1>Event Title: All-Kansas October 2024 Chapter Meeting</h1><div>https://portal.momsforliberty.org/events/2741/</div><br /><div>When: Oct 24, 2024 18:30 PM US/Central</div><div>Speaker: Tina Descovich, Co-Founder of Moms for Liberty, Pat Blackburn, National Chapter Director of Moms for Liberty, Tamara James, Blue Valley Parent alum/Attorney/former Executive Team Leader Johnson County Chapter, Thad Snider</div><br /><div><p>RSVP NOW:</p>
<p>Email "momsforlibertyop@gmail.com"</p>
<p>First &amp\; Last Name</p>
<p>Kansas County you reside in</p>
<p>&nbsp\;</p>
<p>First, All-Kansas Member &amp\; Newsletter Subscriber Chapter Meeting!</p>
<p>Join us for this VIRTUAL gathering of Moms for Liberty members and newsletter subscribers of all types across the entire state of Kansas!</p>
<p>&nbsp\;</p>
<p>Hosted by the Johnson County, KS Chapter leaders, this will be be a power-packed session:</p>
<p>Tina Descovich, Co-Founder of Moms for Liberty</p>
<p>Pat Blackburn, National Chapter Director of Moms for Liberty</p>
<p>Thad Snider, JoCo Parent, Election Integrity Advocate</p>
<p>Tamara James, Blue Valley USD 299 Parent Alum, Attorney &amp\; former Executive Leader in JoCo Chapter</p>
<p>&nbsp\;</p>
<p>Plus-</p>
<p>Door prizes!</p>
<p>Kansas School Data Report</p>
<p>Q&amp\;A</p>
<p>&nbsp\;</p>
<p>RSVP NOW!</p>
<p>Email "momsforlibertyop@gmail.com"</p>
<p>First &amp\; Last Name</p>
<p>Kansas County you reside in</p>
<p>&nbsp\;</p></div><div>--- This iCal file does *NOT* confirm registration.Event details subject to change. ---</div><div>--- Tendenci&reg\; Software by <a href="https://www.tendenci.com">tendenci.com</a> - The Open Source AMS for Associations ---</div>
SUMMARY:All-Kansas October 2024 Chapter Meeting
PRIORITY:5
CLASS:PUBLIC
BEGIN:VALARM
TRIGGER:-PT30M
ACTION:DISPLAY
DESCRIPTION:Reminder
END:VALARM
END:VEVENT
END:VCALENDAR
