BEGIN:VCALENDAR
PRODID:-//Tendenci - The Open Source AMS for Associations//Tendenci Codebase 12 MIMEDIR//EN
VERSION:2.0
METHOD:PUBLISH
BEGIN:VEVENT
DTSTAMP:20260422T091014Z
ORGANIZER:Moms for Liberty Baldwin County
DTSTART:20241021T173000Z
DTEND:20241021T200000Z
LOCATION:Baldwin County Title IX Town Hall
TRANSP:OPAQUE
SEQUENCE:0
UID:uid2742@portal.momsforliberty.org
DESCRIPTION:--- This iCal file does *NOT* confirm registration.\r\nEvent details subject to change. ---\r\nhttps://portal.momsforliberty.org/events/2742/\r\n\r\nEvent Title: Baldwin County Title IX Town Hall\r\nStart Date / Time: Oct 21, 2024 17:30 PM UTC\r\nLocation: Baldwin County Title IX Town Hall\r\nSpeaker: Congressman Barry Moore / AG Steve Marshall / Representative Susan Dubose\r\nGoogle\r\nhttp://maps.google.com/maps?q=300+South+Section+Street,Fairhope,AL,36532\r\n\r\nForecast\nhttp://www.weather.com/weather/monthly/36532\r\n\r\nJoin us for an important discussion on the future of Title IX and its implications for women and girls. With recent changes redefining &ldquo\;sex&rdquo\; and ongoing legal challenges in Alabama, our schools face new hurdles.\r\nRepresentative DuBose will introduce critical women&rsquo\;s privacy legislation, and Congressman Moore and Attorney General Marshall will provide updates on Alabama&rsquo\;s status.\r\nLearn how these changes affect Baldwin County.\r\n \r\n. --- This iCal file does *NOT* confirm registration.Event details subject to change. ---\r\n\r\n--- By Tendenci - The Open Source AMS for Associations ---\r\n
X-ALT-DESC;FMTTYPE=text/html:<div>--- This iCal file does *NOT* confirm registration.Event details subject to change. ---</div><h1>Event Title: Baldwin County Title IX Town Hall</h1><div>https://portal.momsforliberty.org/events/2742/</div><br /><div>When: Oct 21, 2024 17:30 PM UTC</div><div>Speaker: Congressman Barry Moore / AG Steve Marshall / Representative Susan Dubose</div><br />Baldwin County Title IX Town Hall<br />300 South Section Street<br />Fairhope, AL 36532<br /><div>http://maps.google.com/maps?q=300+South+Section+Street,Fairhope,AL,36532</div><br /><div>Forecast: http://www.weather.com/weather/monthly/36532</div><br /><br /><div><p class="cvGsUA direction-ltr align-center para-style-body"><span class="OYPEnA font-feature-liga-off font-feature-clig-off font-feature-calt-off text-decoration-none text-strikethrough-none">Join us for an important discussion on the future of Title IX and its implications for women and girls. With recent changes redefining &ldquo\;sex&rdquo\; and ongoing legal challenges in Alabama, our schools face new hurdles.</span></p>
<p class="cvGsUA direction-ltr align-center para-style-body"><span class="OYPEnA font-feature-liga-off font-feature-clig-off font-feature-calt-off text-decoration-none text-strikethrough-none">Representative DuBose will introduce critical women&rsquo\;s privacy legislation, and Congressman Moore and Attorney General Marshall will provide updates on Alabama&rsquo\;s status.</span></p>
<p class="cvGsUA direction-ltr align-center para-style-body"><span class="OYPEnA font-feature-liga-off font-feature-clig-off font-feature-calt-off text-decoration-none text-strikethrough-none">Learn how these changes affect Baldwin County.</span></p>
<p class="cvGsUA direction-ltr align-center para-style-body">&nbsp\;</p>
<p class="cvGsUA direction-ltr align-center para-style-body"><span class="OYPEnA font-feature-liga-off font-feature-clig-off font-feature-calt-off text-decoration-none text-strikethrough-none">.&nbsp\;</span></p></div><div>--- This iCal file does *NOT* confirm registration.Event details subject to change. ---</div><div>--- Tendenci&reg\; Software by <a href="https://www.tendenci.com">tendenci.com</a> - The Open Source AMS for Associations ---</div>
SUMMARY:Baldwin County Title IX Town Hall
PRIORITY:5
CLASS:PUBLIC
BEGIN:VALARM
TRIGGER:-PT30M
ACTION:DISPLAY
DESCRIPTION:Reminder
END:VALARM
END:VEVENT
END:VCALENDAR
