BEGIN:VCALENDAR
PRODID:-//Tendenci - The Open Source AMS for Associations//Tendenci Codebase 12 MIMEDIR//EN
VERSION:2.0
METHOD:PUBLISH
BEGIN:VEVENT
DTSTAMP:20260422T051057Z
ORGANIZER:
DTSTART:20241023T230000Z
DTEND:20241024T010000Z
LOCATION:Cyclone Anaya's City Center (800 Town and Country Blvd, Houston, TX  77024)
TRANSP:OPAQUE
SEQUENCE:0
UID:uid2743@portal.momsforliberty.org
DESCRIPTION:--- This iCal file does *NOT* confirm registration.\r\nEvent details subject to change. ---\r\nhttps://portal.momsforliberty.org/events/2743/\r\n\r\nEvent Title: Moms for Liberty Harris County October 2024 Chapter Meeting\r\nStart Date / Time: Oct 23, 2024 18:00 PM US/Central\r\nLocation: Cyclone Anaya's City Center (800 Town and Country Blvd, Houston, TX  77024)\r\nSpeaker: Dr. Mary Bowden\r\nJoin us as we discuss issues related to parental rights and education!  In addition to regular chapter business, we will also hear from guest speaker Dr. Mary Bowden.  You can register for our meeting and find all the details here:  https://docs.google.com/forms/d/e/1FAIpQLSfn02SwH7ljpuZ0jTL7CrOnGpOdOARja6r9rPMGloIbehMfqA/viewform--- This iCal file does *NOT* confirm registration.Event details subject to change. ---\r\n\r\n--- By Tendenci - The Open Source AMS for Associations ---\r\n
X-ALT-DESC;FMTTYPE=text/html:<div>--- This iCal file does *NOT* confirm registration.Event details subject to change. ---</div><h1>Event Title: Moms for Liberty Harris County October 2024 Chapter Meeting</h1><div>https://portal.momsforliberty.org/events/2743/</div><br /><div>When: Oct 23, 2024 18:00 PM US/Central</div><div>Speaker: Dr. Mary Bowden</div><br /><div><p>Join us as we discuss issues related to parental rights and education!&nbsp\; In addition to regular chapter business, we will also hear from guest speaker Dr. Mary Bowden.&nbsp\; You can register for our meeting and find all the details here:&nbsp\;&nbsp\;<span style="font-weight: 400\;">https://docs.google.com/forms/d/e/1FAIpQLSfn02SwH7ljpuZ0jTL7CrOnGpOdOARja6r9rPMGloIbehMfqA/viewform</span></p></div><div>--- This iCal file does *NOT* confirm registration.Event details subject to change. ---</div><div>--- Tendenci&reg\; Software by <a href="https://www.tendenci.com">tendenci.com</a> - The Open Source AMS for Associations ---</div>
SUMMARY:Moms for Liberty Harris County October 2024 Chapter Meeting
PRIORITY:5
CLASS:PUBLIC
BEGIN:VALARM
TRIGGER:-PT30M
ACTION:DISPLAY
DESCRIPTION:Reminder
END:VALARM
END:VEVENT
END:VCALENDAR
