BEGIN:VCALENDAR
PRODID:-//Tendenci - The Open Source AMS for Associations//Tendenci Codebase 12 MIMEDIR//EN
VERSION:2.0
METHOD:PUBLISH
BEGIN:VEVENT
DTSTAMP:20260422T194150Z
ORGANIZER:
DTSTART:20241112T180000Z
DTEND:20241112T200000Z
LOCATION:Church of the Nazarene
TRANSP:OPAQUE
SEQUENCE:0
UID:uid2764@portal.momsforliberty.org
DESCRIPTION:--- This iCal file does *NOT* confirm registration.\r\nEvent details subject to change. ---\r\nhttps://portal.momsforliberty.org/events/2764/\r\n\r\nEvent Title: November Chapter Meeting\r\nStart Date / Time: Nov 12, 2024 18:00 PM UTC\r\nLocation: Church of the Nazarene\r\nGoogle\r\nhttp://maps.google.com/maps?q=506+Jordan+Rd,Franklin,TN\r\n\r\nForecast\nhttp://www.weather.com/weather/monthly/\r\n\r\nJoin us at the November 12 chapter meeting as we talk with two local grassroots winners and learn how to get involved to ensure follow through on decisions and votes that will make the future in Williamson County even better! \r\n \r\nWe also have news to share about what students have recently encountered in local schools.\r\n \r\nThere will also be an opportunity to share what's on your mind, chat with friends, and make new friends! --- This iCal file does *NOT* confirm registration.Event details subject to change. ---\r\n\r\n--- By Tendenci - The Open Source AMS for Associations ---\r\n
X-ALT-DESC;FMTTYPE=text/html:<div>--- This iCal file does *NOT* confirm registration.Event details subject to change. ---</div><h1>Event Title: November Chapter Meeting</h1><div>https://portal.momsforliberty.org/events/2764/</div><br /><div>When: Nov 12, 2024 18:00 PM UTC</div><br />Church of the Nazarene<br />506 Jordan Rd<br />Franklin, TN<br /><div>http://maps.google.com/maps?q=506+Jordan+Rd,Franklin,TN</div><br /><div>Forecast: http://www.weather.com/weather/monthly/</div><br /><br /><div><p style="text-align: justify\; margin: 0\;" align="justify"><span style="font-size: 18px\;">Join us at the November 12 chapter meeting as we talk with </span><span style="font-size: 18px\; font-weight: bold\;">two local grassroots winners</span><span style="font-size: 18px\;"> and learn how to get involved to ensure follow through on decisions and votes that will make the future in Williamson County even better! </span></p>
<p style="text-align: justify\; margin: 0\;" align="justify">&nbsp\;</p>
<p style="text-align: justify\; margin: 0\;" align="justify"><span style="font-size: 18px\;">We also have news to share about what students have recently encountered in local schools.</span></p>
<p style="text-align: justify\; margin: 0\;" align="justify">&nbsp\;</p>
<p style="text-align: justify\; margin: 0\;" align="justify"><span style="font-size: 18px\;">There will also be an opportunity to share what's on your mind, chat with friends, and make new friends! </span></p></div><div>--- This iCal file does *NOT* confirm registration.Event details subject to change. ---</div><div>--- Tendenci&reg\; Software by <a href="https://www.tendenci.com">tendenci.com</a> - The Open Source AMS for Associations ---</div>
SUMMARY:November Chapter Meeting
PRIORITY:5
CLASS:PUBLIC
BEGIN:VALARM
TRIGGER:-PT30M
ACTION:DISPLAY
DESCRIPTION:Reminder
END:VALARM
END:VEVENT
END:VCALENDAR
