BEGIN:VCALENDAR
PRODID:-//Tendenci - The Open Source AMS for Associations//Tendenci Codebase 12 MIMEDIR//EN
VERSION:2.0
METHOD:PUBLISH
BEGIN:VEVENT
DTSTAMP:20260422T130955Z
ORGANIZER:
DTSTART:20211005T060000Z
DTEND:20211005T070000Z
LOCATION:Google Meet
TRANSP:OPAQUE
SEQUENCE:0
UID:uid28@portal.momsforliberty.org
DESCRIPTION:--- This iCal file does *NOT* confirm registration.\r\nEvent details subject to change. ---\r\nhttps://portal.momsforliberty.org/events/28/\r\n\r\nEvent Title: 12th Moms for Liberty - Dutchess County, NY\r\nStart Date / Time: Oct 05, 2021 02:00 AM US/Eastern\r\nLocation: Google Meet\r\nJoin us to vote in Christina Scibelli as district leader of Red Hook (must be a regular member to vote), updates on meeting with local leaders and discuss fundraising goals and events and a treasurer's report.--- This iCal file does *NOT* confirm registration.Event details subject to change. ---\r\n\r\n--- By Tendenci - The Open Source AMS for Associations ---\r\n
X-ALT-DESC;FMTTYPE=text/html:<div>--- This iCal file does *NOT* confirm registration.Event details subject to change. ---</div><h1>Event Title: 12th Moms for Liberty - Dutchess County, NY</h1><div>https://portal.momsforliberty.org/events/28/</div><br /><div>When: Oct 05, 2021 02:00 AM US/Eastern</div><br /><div><p>Join us to vote in Christina Scibelli as district leader of Red Hook (must be a regular member to vote), updates on meeting with local leaders and discuss fundraising goals and events and a treasurer's report.</p></div><div>--- This iCal file does *NOT* confirm registration.Event details subject to change. ---</div><div>--- Tendenci&reg\; Software by <a href="https://www.tendenci.com">tendenci.com</a> - The Open Source AMS for Associations ---</div>
SUMMARY:12th Moms for Liberty - Dutchess County, NY
PRIORITY:5
CLASS:PUBLIC
BEGIN:VALARM
TRIGGER:-PT30M
ACTION:DISPLAY
DESCRIPTION:Reminder
END:VALARM
END:VEVENT
END:VCALENDAR
