BEGIN:VCALENDAR
PRODID:-//Tendenci - The Open Source AMS for Associations//Tendenci Codebase 12 MIMEDIR//EN
VERSION:2.0
METHOD:PUBLISH
BEGIN:VEVENT
DTSTAMP:20260426T050952Z
ORGANIZER:M4LU
DTSTART:20250115T000000Z
DTEND:20250115T010000Z
LOCATION:
TRANSP:OPAQUE
SEQUENCE:0
UID:uid2857@portal.momsforliberty.org
DESCRIPTION:--- This iCal file does *NOT* confirm registration.\r\nEvent details subject to change. ---\r\nhttps://portal.momsforliberty.org/events/2857/\r\n\r\nEvent Title: Social Emotional Learning (SEL) 102\r\nStart Date / Time: Jan 14, 2025 19:00 PM US/Eastern\r\nLocation: \r\nSpeaker: Abigail Shrier, Tiffany Justice\r\nJoin Tiffany Justice and Abigail Shrier, author of the preeminent book on SEL "Bad Therapy: Why the Kids Aren't Growing Up" for a focused discussion on her findings regarding mental health in our schools.\r\nThe Live-Stream is open to the public: https://vimeo.com/event/4840739 \r\nMore information about M4LU can be found at https://M4LU.org\r\nTo watch the 2024 book club for this book, visit:  https://youtu.be/Kq1teDt3ZYw\r\n \r\n \r\n \r\n --- This iCal file does *NOT* confirm registration.Event details subject to change. ---\r\n\r\n--- By Tendenci - The Open Source AMS for Associations ---\r\n
X-ALT-DESC;FMTTYPE=text/html:<div>--- This iCal file does *NOT* confirm registration.Event details subject to change. ---</div><h1>Event Title: Social Emotional Learning (SEL) 102</h1><div>https://portal.momsforliberty.org/events/2857/</div><br /><div>When: Jan 14, 2025 19:00 PM US/Eastern</div><div>Speaker: Abigail Shrier, Tiffany Justice</div><br /><div><p>Join Tiffany Justice and Abigail Shrier, author of the preeminent book on SEL "Bad Therapy: Why the Kids Aren't Growing Up" for a focused discussion on her findings regarding mental health in our schools.</p>
<p>The Live-Stream is open to the public:&nbsp\;<a href="https://vimeo.com/event/4840739">https://vimeo.com/event/4840739</a>&nbsp\;</p>
<p>More information about M4LU can be found at <a href="https://m4lu.org/">https://M4LU.org</a></p>
<p>To watch the 2024 book club for this book, visit: &nbsp\;<a href="https://youtu.be/Kq1teDt3ZYw">https://youtu.be/Kq1teDt3ZYw</a></p>
<p>&nbsp\;</p>
<p>&nbsp\;</p>
<p>&nbsp\;</p>
<p>&nbsp\;</p></div><div>--- This iCal file does *NOT* confirm registration.Event details subject to change. ---</div><div>--- Tendenci&reg\; Software by <a href="https://www.tendenci.com">tendenci.com</a> - The Open Source AMS for Associations ---</div>
SUMMARY:Social Emotional Learning (SEL) 102
PRIORITY:5
CLASS:PUBLIC
BEGIN:VALARM
TRIGGER:-PT30M
ACTION:DISPLAY
DESCRIPTION:Reminder
END:VALARM
END:VEVENT
END:VCALENDAR
