BEGIN:VCALENDAR
PRODID:-//Tendenci - The Open Source AMS for Associations//Tendenci Codebase 12 MIMEDIR//EN
VERSION:2.0
METHOD:PUBLISH
BEGIN:VEVENT
DTSTAMP:20260423T173023Z
ORGANIZER:M4LU
DTSTART:20250121T233000Z
DTEND:20250122T013000Z
LOCATION:
TRANSP:OPAQUE
SEQUENCE:0
UID:uid2859@portal.momsforliberty.org
DESCRIPTION:--- This iCal file does *NOT* confirm registration.\r\nEvent details subject to change. ---\r\nhttps://portal.momsforliberty.org/events/2859/\r\n\r\nEvent Title: Virtual Watch Party of "The Coddling of the American Mind"\r\nStart Date / Time: Jan 21, 2025 18:30 PM US/Eastern\r\nLocation: \r\nSpeaker: Ted Balaker, Courtney Balaker\r\nAn anxious generation searches for happiness &mdash\;\r\nBeginning in 2012, a mental health mystery appeared out of nowhere.\r\nAnxiety, depression, and suicide shot up among young people, and nobody knew why. Then one man&rsquo\;s brush with suicide revealed some unexpected clues, and five 20-somethings from around the world began to piece together a solution they hoped would pull themselves out of the darkness.  \r\nThe Coddling of the American Mind is the new feature documentary by Ted Balaker and Courtney Moorehead Balaker that&rsquo\;s based on The New York Times bestselling book by Greg Lukianoff and Jonathan Haidt.\r\nJoin Moms for Liberty to screen this important documentary as part of M4LU's January focus on Social Emotional Learning.  Be sure to stay for filmmakers Ted and Courtney Balaker to take your questions live! \r\nTickets are $5. \r\nFind out more about Moms for Liberty's virtual watch parties at https://m4lu.org/watch-party/.\r\n \r\n \r\n \r\n --- This iCal file does *NOT* confirm registration.Event details subject to change. ---\r\n\r\n--- By Tendenci - The Open Source AMS for Associations ---\r\n
X-ALT-DESC;FMTTYPE=text/html:<div>--- This iCal file does *NOT* confirm registration.Event details subject to change. ---</div><h1>Event Title: Virtual Watch Party of "The Coddling of the American Mind"</h1><div>https://portal.momsforliberty.org/events/2859/</div><br /><div>When: Jan 21, 2025 18:30 PM US/Eastern</div><div>Speaker: Ted Balaker, Courtney Balaker</div><br /><div><h3 class="header-anchor-post"><em>An anxious generation searches for happiness</em> &mdash\;</h3>
<div class="pencraft pc-display-flex pc-alignItems-center pc-position-absolute pc-reset header-anchor-parent">Beginning in 2012, a mental health mystery appeared out of nowhere.</div>
<p>Anxiety, depression, and suicide shot up among young people, and nobody knew why. Then one man&rsquo\;s brush with suicide revealed some unexpected clues, and five 20-somethings from around the world began to piece together a solution they hoped would pull themselves out of the darkness.&nbsp\;&nbsp\;</p>
<p><em><strong>The Coddling of the American Mind</strong></em> is the new feature documentary by <strong>Ted Balaker&nbsp\;</strong>and <strong>Courtney Moorehead Balake</strong>r that&rsquo\;s based on <em><strong>The New York Time</strong></em><strong>s</strong> bestselling <a href="https://www.thecoddling.com/" rel="">book</a> by <strong>Greg Lukianoff</strong> and <strong>Jonathan Haidt</strong>.</p>
<p>Join Moms for Liberty to screen this important documentary as part of M4LU's January focus on Social Emotional Learning. &nbsp\;Be sure to stay for filmmakers Ted and Courtney Balaker to take your questions live!&nbsp\;</p>
<p>Tickets are $5.&nbsp\;</p>
<p>Find out more about Moms for Liberty's virtual watch parties at <a href="https://m4lu.org/watch-party/">https://m4lu.org/watch-party/</a>.</p>
<p>&nbsp\;</p>
<p>&nbsp\;</p>
<p>&nbsp\;</p>
<p>&nbsp\;</p></div><div>--- This iCal file does *NOT* confirm registration.Event details subject to change. ---</div><div>--- Tendenci&reg\; Software by <a href="https://www.tendenci.com">tendenci.com</a> - The Open Source AMS for Associations ---</div>
SUMMARY:Virtual Watch Party of "The Coddling of the American Mind"
PRIORITY:5
CLASS:PUBLIC
BEGIN:VALARM
TRIGGER:-PT30M
ACTION:DISPLAY
DESCRIPTION:Reminder
END:VALARM
END:VEVENT
END:VCALENDAR
