BEGIN:VCALENDAR
PRODID:-//Tendenci - The Open Source AMS for Associations//Tendenci Codebase 12 MIMEDIR//EN
VERSION:2.0
METHOD:PUBLISH
BEGIN:VEVENT
DTSTAMP:20260421T231420Z
ORGANIZER:M4LU
DTSTART:20250224T180000Z
DTEND:20250224T190000Z
LOCATION:M4LU Book Club
TRANSP:OPAQUE
SEQUENCE:0
UID:uid2893@portal.momsforliberty.org
DESCRIPTION:--- This iCal file does *NOT* confirm registration.\r\nEvent details subject to change. ---\r\nhttps://portal.momsforliberty.org/events/2893/\r\n\r\nEvent Title: M4LU Book Club: "Race Marxism"\r\nStart Date / Time: Feb 24, 2025 13:00 PM US/Eastern\r\nLocation: M4LU Book Club\r\nSpeaker: Dr. James Lindsay\r\n"Race Marxism" exists to tell the truth about Critical Race Theory in unprecedented clarity and depth. Across its six weighty chapters, Lindsay explains what Critical Race Theory is, what it believes, where it comes from, how it operates, and what we can do about it now that we know what we're dealing with. It exposes Critical Race Theory for what it is by ranging widely across its own literature and a survey of some of the darkest philosophical currents of the last three hundred years in Western thought. Readers will come away understanding Critical Race Theory and be able to speak the truth about it with authority: Critical Race Theory is Race Marxism, and, like all Marxist Theories before it, it will not work this time.\r\nPlease join the author, Dr. James Lindsay, and Robin Steenman, as they delve into this important book.  Dr. Lindsay will be taking questions from the audience.  However, to ask them "in person" you must register beforehand via this link.  Please RSVP to access the livestream.\r\nNeed to order this book?  M4LU recommends supporting Mud Hen Mama with your book purchase of Race Marxism.   JOIN HERE: https://streamyard.com/watch/H3BHgZrQGmA9 \r\nThis book club is part of M4LU's month-long examination of Critical Race Theory in February 2025. Find out more about M4LU at www.M4LU.org.  \r\n \r\n \r\n --- This iCal file does *NOT* confirm registration.Event details subject to change. ---\r\n\r\n--- By Tendenci - The Open Source AMS for Associations ---\r\n
X-ALT-DESC;FMTTYPE=text/html:<div>--- This iCal file does *NOT* confirm registration.Event details subject to change. ---</div><h1>Event Title: M4LU Book Club: "Race Marxism"</h1><div>https://portal.momsforliberty.org/events/2893/</div><br /><div>When: Feb 24, 2025 13:00 PM US/Eastern</div><div>Speaker: Dr. James Lindsay</div><br /><div><p>"Race Marxism" exists to tell the truth about Critical Race Theory in unprecedented clarity and depth. Across its six weighty chapters, Lindsay explains what Critical Race Theory is, what it believes, where it comes from, how it operates, and what we can do about it now that we know what we're dealing with. It exposes Critical Race Theory for what it is by ranging widely across its own literature and a survey of some of the darkest philosophical currents of the last three hundred years in Western thought. Readers will come away understanding Critical Race Theory and be able to speak the truth about it with authority: Critical Race Theory is Race Marxism, and, like all Marxist Theories before it, it will not work this time.</p>
<p>Please join the author, Dr. James Lindsay, and Robin Steenman, as they delve into this important book. &nbsp\;Dr. Lindsay will be taking questions from the audience. &nbsp\;However, to ask them "in person" you must register beforehand via this <a href="https://portal.momsforliberty.org/forms/book-club-questions/">link</a>. &nbsp\;Please RSVP to access the livestream.</p>
<p>Need to order this book? &nbsp\;M4LU recommends supporting <a href="https://mudhenmama.com">Mud Hen Mama</a> with your book purchase of <a href="https://mudhenmama.com/mud-hen-mama-gear/hs/race-marxism/">Race Marxism</a>. &nbsp\; JOIN HERE:&nbsp\;<a href="https://streamyard.com/watch/H3BHgZrQGmA9">https://streamyard.com/watch/H3BHgZrQGmA9</a>&nbsp\;</p>
<p>This book club is part of M4LU's month-long examination of Critical Race Theory in February 2025. Find out more about M4LU at <a href="http://www.M4LU.org">www.M4LU.org</a>. &nbsp\;</p>
<p>&nbsp\;</p>
<p>&nbsp\;</p>
<p>&nbsp\;</p></div><div>--- This iCal file does *NOT* confirm registration.Event details subject to change. ---</div><div>--- Tendenci&reg\; Software by <a href="https://www.tendenci.com">tendenci.com</a> - The Open Source AMS for Associations ---</div>
SUMMARY:M4LU Book Club: "Race Marxism"
PRIORITY:5
CLASS:PUBLIC
BEGIN:VALARM
TRIGGER:-PT30M
ACTION:DISPLAY
DESCRIPTION:Reminder
END:VALARM
END:VEVENT
END:VCALENDAR
