BEGIN:VCALENDAR
PRODID:-//Tendenci - The Open Source AMS for Associations//Tendenci Codebase 12 MIMEDIR//EN
VERSION:2.0
METHOD:PUBLISH
BEGIN:VEVENT
DTSTAMP:20260422T174506Z
ORGANIZER:
DTSTART:20250215T200000Z
DTEND:20250215T220000Z
LOCATION:
TRANSP:OPAQUE
SEQUENCE:0
UID:uid2925@portal.momsforliberty.org
DESCRIPTION:--- This iCal file does *NOT* confirm registration.\r\nEvent details subject to change. ---\r\nhttps://portal.momsforliberty.org/events/2925/\r\n\r\nEvent Title: Rally for Parental Rights\r\nStart Date / Time: Feb 15, 2025 12:00 PM US/Pacific\r\nLocation: \r\nFight for Parental Rights on the North Capitol Steps in Olympia.  Sponsored by Let's Go Washington, WAGOP and FPIW.--- This iCal file does *NOT* confirm registration.Event details subject to change. ---\r\n\r\n--- By Tendenci - The Open Source AMS for Associations ---\r\n
X-ALT-DESC;FMTTYPE=text/html:<div>--- This iCal file does *NOT* confirm registration.Event details subject to change. ---</div><h1>Event Title: Rally for Parental Rights</h1><div>https://portal.momsforliberty.org/events/2925/</div><br /><div>When: Feb 15, 2025 12:00 PM US/Pacific</div><br /><div><p>Fight for Parental Rights on the North Capitol Steps in Olympia. &nbsp\;Sponsored by Let's Go Washington, WAGOP and FPIW.</p></div><div>--- This iCal file does *NOT* confirm registration.Event details subject to change. ---</div><div>--- Tendenci&reg\; Software by <a href="https://www.tendenci.com">tendenci.com</a> - The Open Source AMS for Associations ---</div>
SUMMARY:Rally for Parental Rights
PRIORITY:5
CLASS:PUBLIC
BEGIN:VALARM
TRIGGER:-PT30M
ACTION:DISPLAY
DESCRIPTION:Reminder
END:VALARM
END:VEVENT
END:VCALENDAR
