BEGIN:VCALENDAR
PRODID:-//Tendenci - The Open Source AMS for Associations//Tendenci Codebase 12 MIMEDIR//EN
VERSION:2.0
METHOD:PUBLISH
BEGIN:VEVENT
DTSTAMP:20260426T020029Z
ORGANIZER:
DTSTART:20250220T180000Z
DTEND:20250220T233000Z
LOCATION:
TRANSP:OPAQUE
SEQUENCE:0
UID:uid2926@portal.momsforliberty.org
DESCRIPTION:--- This iCal file does *NOT* confirm registration.\r\nEvent details subject to change. ---\r\nhttps://portal.momsforliberty.org/events/2926/\r\n\r\nEvent Title: Moms for Liberty Goes to Olympia\r\nStart Date / Time: Feb 20, 2025 10:00 AM US/Pacific\r\nLocation: \r\nJoin chapters from across the state as we head down to Olympia to meet with legislators.  We will meet very briefly with the GOP caucus.  Afterwards, people are on their own to take a guided tour and meet with their own representatives. \r\nIf interested, please RSVP at moms4Liberty.wa.king@gmail.com, to get details. --- This iCal file does *NOT* confirm registration.Event details subject to change. ---\r\n\r\n--- By Tendenci - The Open Source AMS for Associations ---\r\n
X-ALT-DESC;FMTTYPE=text/html:<div>--- This iCal file does *NOT* confirm registration.Event details subject to change. ---</div><h1>Event Title: Moms for Liberty Goes to Olympia</h1><div>https://portal.momsforliberty.org/events/2926/</div><br /><div>When: Feb 20, 2025 10:00 AM US/Pacific</div><br /><div><p>Join chapters from across the state as we head down to Olympia to meet with legislators. &nbsp\;We will meet very briefly with the GOP caucus. &nbsp\;Afterwards, people are on their own to take a guided tour and meet with their own representatives.&nbsp\;</p>
<p>If interested, please RSVP at <a href="mailto:moms4Liberty.wa.king@gmail.com,">moms4Liberty.wa.king@gmail.com,</a>&nbsp\;to get details.&nbsp\;</p></div><div>--- This iCal file does *NOT* confirm registration.Event details subject to change. ---</div><div>--- Tendenci&reg\; Software by <a href="https://www.tendenci.com">tendenci.com</a> - The Open Source AMS for Associations ---</div>
SUMMARY:Moms for Liberty Goes to Olympia
PRIORITY:5
CLASS:PUBLIC
BEGIN:VALARM
TRIGGER:-PT30M
ACTION:DISPLAY
DESCRIPTION:Reminder
END:VALARM
END:VEVENT
END:VCALENDAR
