BEGIN:VCALENDAR
PRODID:-//Tendenci - The Open Source AMS for Associations//Tendenci Codebase 12 MIMEDIR//EN
VERSION:2.0
METHOD:PUBLISH
BEGIN:VEVENT
DTSTAMP:20260425T200602Z
ORGANIZER:
DTSTART:20250220T170000Z
DTEND:20250221T000000Z
LOCATION:
TRANSP:OPAQUE
SEQUENCE:0
UID:uid2933@portal.momsforliberty.org
DESCRIPTION:--- This iCal file does *NOT* confirm registration.\r\nEvent details subject to change. ---\r\nhttps://portal.momsforliberty.org/events/2933/\r\n\r\nEvent Title: Moms for Liberty Pierce County Legislative Day!\r\nStart Date / Time: Feb 20, 2025 09:00 AM US/Pacific\r\nLocation: \r\nGoogle\r\nhttp://maps.google.com/maps?q=416+Sid+Snyder+Ave.+SW,+Olympia,+WA,Olympia,WA,98504\r\n\r\nForecast\nhttp://www.weather.com/weather/monthly/98504\r\n\r\nIf you are a member of our Moms for Liberty Chapter, you are invited to join us in Olympia on Thursday, February 20th for a "day on the hill" meeting with our legislators. \r\nPlease check your active member-only newsletter for the full schedule and details. \r\n \r\n --- This iCal file does *NOT* confirm registration.Event details subject to change. ---\r\n\r\n--- By Tendenci - The Open Source AMS for Associations ---\r\n
X-ALT-DESC;FMTTYPE=text/html:<div>--- This iCal file does *NOT* confirm registration.Event details subject to change. ---</div><h1>Event Title: Moms for Liberty Pierce County Legislative Day!</h1><div>https://portal.momsforliberty.org/events/2933/</div><br /><div>When: Feb 20, 2025 09:00 AM US/Pacific</div><br /><br />416 Sid Snyder Ave. SW, Olympia, WA<br />Olympia, WA 98504<br /><div>http://maps.google.com/maps?q=416+Sid+Snyder+Ave.+SW,+Olympia,+WA,Olympia,WA,98504</div><br /><div>Forecast: http://www.weather.com/weather/monthly/98504</div><br /><br /><div><p>If you are a member of our Moms for Liberty Chapter, you are invited to join us in Olympia on Thursday, February 20th for a "day on the hill" meeting with our legislators.&nbsp\;</p>
<p>Please check your active member-only newsletter for the full schedule and details.&nbsp\;</p>
<p>&nbsp\;</p>
<p>&nbsp\;</p></div><div>--- This iCal file does *NOT* confirm registration.Event details subject to change. ---</div><div>--- Tendenci&reg\; Software by <a href="https://www.tendenci.com">tendenci.com</a> - The Open Source AMS for Associations ---</div>
SUMMARY:Moms for Liberty Pierce County Legislative Day!
PRIORITY:5
CLASS:PUBLIC
BEGIN:VALARM
TRIGGER:-PT30M
ACTION:DISPLAY
DESCRIPTION:Reminder
END:VALARM
END:VEVENT
END:VCALENDAR
