BEGIN:VCALENDAR
PRODID:-//Tendenci - The Open Source AMS for Associations//Tendenci Codebase 12 MIMEDIR//EN
VERSION:2.0
METHOD:PUBLISH
BEGIN:VEVENT
DTSTAMP:20260421T013746Z
ORGANIZER:
DTSTART:20250222T160000Z
DTEND:20250222T170000Z
LOCATION:Zoom Call - Virtual Event
TRANSP:OPAQUE
SEQUENCE:0
UID:uid2934@portal.momsforliberty.org
DESCRIPTION:--- This iCal file does *NOT* confirm registration.\r\nEvent details subject to change. ---\r\nhttps://portal.momsforliberty.org/events/2934/\r\n\r\nEvent Title: Moms for Liberty Pierce County Saturday Chat with Sarah Zoom\r\nStart Date / Time: Feb 22, 2025 08:00 AM US/Pacific\r\nLocation: Zoom Call - Virtual Event\r\nGoogle\r\nhttp://maps.google.com/maps?q=1181+Route+55,Lagrangeville,12540\r\n\r\nForecast\nhttp://www.weather.com/weather/monthly/12540\r\n\r\nCome hang out with our Chapter Chair via zoom on Saturday morning, February 22 at 8 AM. Come in your pajamas, and grab your breakfast. This will be a NON-RECORDED, casual, not-a-training, Q &amp\; A time to ask questions or talk about ideas your might have for our chapter. Think of it more as a social hour. \r\nSarah will wait for 20 minutes on the zoom call. If no one has joined by then, the call will be terminated. I hope you'll come! \r\n \r\n --- This iCal file does *NOT* confirm registration.Event details subject to change. ---\r\n\r\n--- By Tendenci - The Open Source AMS for Associations ---\r\n
X-ALT-DESC;FMTTYPE=text/html:<div>--- This iCal file does *NOT* confirm registration.Event details subject to change. ---</div><h1>Event Title: Moms for Liberty Pierce County Saturday Chat with Sarah Zoom</h1><div>https://portal.momsforliberty.org/events/2934/</div><br /><div>When: Feb 22, 2025 08:00 AM US/Pacific</div><br />Zoom Call - Virtual Event<br />1181 Route 55<br /> 12540<br /><div>http://maps.google.com/maps?q=1181+Route+55,Lagrangeville,12540</div><br /><div>Forecast: http://www.weather.com/weather/monthly/12540</div><br /><br /><div><p>Come hang out with our Chapter Chair via zoom on Saturday morning, February 22 at 8 AM. Come in your pajamas, and grab your breakfast. This will be a NON-RECORDED, casual, not-a-training, Q &amp\; A time to ask questions or talk about ideas your might have for our chapter. Think of it more as a social hour.&nbsp\;</p>
<p>Sarah will wait for 20 minutes on the zoom call. If no one has joined by then, the call will be terminated. I hope you'll come!&nbsp\;</p>
<p>&nbsp\;</p>
<p>&nbsp\;</p></div><div>--- This iCal file does *NOT* confirm registration.Event details subject to change. ---</div><div>--- Tendenci&reg\; Software by <a href="https://www.tendenci.com">tendenci.com</a> - The Open Source AMS for Associations ---</div>
SUMMARY:Moms for Liberty Pierce County Saturday Chat with Sarah Zoom
PRIORITY:5
CLASS:PUBLIC
BEGIN:VALARM
TRIGGER:-PT30M
ACTION:DISPLAY
DESCRIPTION:Reminder
END:VALARM
END:VEVENT
END:VCALENDAR
