BEGIN:VCALENDAR
PRODID:-//Tendenci - The Open Source AMS for Associations//Tendenci Codebase 12 MIMEDIR//EN
VERSION:2.0
METHOD:PUBLISH
BEGIN:VEVENT
DTSTAMP:20260420T034130Z
ORGANIZER:Moms for Liberty Florida Legislative Committee
DTSTART:20250403T040000Z
DTEND:20250404T035959Z
LOCATION:Florida State Capitol
TRANSP:OPAQUE
SEQUENCE:0
UID:uid2936@portal.momsforliberty.org
DESCRIPTION:--- This iCal file does *NOT* confirm registration.\r\nEvent details subject to change. ---\r\nhttps://portal.momsforliberty.org/events/2936/\r\n\r\nEvent Title: 4th Annual Moms for Liberty Florida Legislative Day\r\nStart Date / Time: Apr 03, 2025 00:00 AM US/Eastern\r\nLocation: Florida State Capitol\r\nSpeaker: Jeff Childers, Monique Miller, Graham Bernstein, Peter Schweizer, Yvette Benarroch, Jacob Kaplan, Esther Byrd\r\nGoogle\r\nhttp://maps.google.com/maps?q=400+S+Monroe+St.,Tallahassee,FL,32399\r\n\r\nForecast\nhttp://www.weather.com/weather/monthly/32399\r\n\r\nMoms for Liberty Florida Legislative Committee will host their 4th Annual Legislative Days in Tallahassee. We invite members from all over the state to meet with their legislators to discuss our 2025 legislative agenda as we continue to lead the charge for parental rights in education across the country!\r\n\r\n \r\nWe hope you can join us! Registration is limited, so we encourage everyone to REGISTER NOW. *This event is non-refundable.\r\n \r\nIn order to attend, you must be a current member of Moms for Liberty. Please visit MomsforLiberty.org to join.\r\n \r\nIf you have questions or issues registering (ex: you received an error message), please click below to send an email to our team. We would be happy to help!\r\n \r\nRegistration Help\r\n \r\n\r\nParking at the Capitol\r\nPlease visit The Florida Capitol - Parking for more information on where to park.  \r\n \r\n\r\nEvent Itinerary \r\nTHURSDAY, APRIL 3RD\r\n &bull\;    7:30 - 9:00 AM &ndash\; Legislative Breakfast for Legislators and Chapter Leadership at Earley&rsquo\;s at the Capitol. Dress code: Wear your Moms for Liberty gear! Location: 400 South Monroe Street, Tallahassee, Florida 32399\r\n&bull\;    9:00 AM - 12:00 PM &ndash\; Members may meet with their legislators, observe the House or Senate in session, attend committee meetings, or tour the Capitol.     \r\n&bull\;    12:00 PM &ndash\; Group photo at the Old Capitol Building (Senate chamber)     \r\n&bull\;    12:15 - 2:00 PM &ndash\; Old Capitol Building (Senate chamber) Boxed lunch, training session, and guest speaker (TBD)     \r\n&bull\;    2:00 - 5:00 PM -   Members may meet with their legislators, observe the House or Senate in session, attend committee meetings, or tour the Capitol     \r\n&bull\;    6:00 - 7:00 PM &ndash\; Cocktail hour at the Governor&rsquo\;s Club (semi-formal attire) Location: Governors Club - 202 S Adams St, Tallahassee, FL 32301  \r\n&bull\;    7:00 - 9:00 PM &ndash\; Dinner at the Governor&rsquo\;s Club featuring keynote speaker Peter Schweizer\r\n \r\n\r\nHotel Accommodations \r\nPlanning to stay in Tallahassee overnight? Here are some hotels in the area. \r\nDoubleTree by Hilton Hotel Tallahassee\r\nAC Hotel Tallahassee Universities at the Capitol \r\nFour Points by Sheraton Tallahassee Downtown\r\nTru by Hilton Tallahassee Central\r\nCourtyard Tallahassee Downtown/Capitol\r\n \r\n\r\n\r\n\r\nMoms for Liberty Florida's 2025 Legislative Agenda\r\nComing soon! \r\n \r\n\r\nCurious about what bills have been filed? Please visit the Florida State House and Senate sites or reach out to your chapter's Legislative Committee Chair. \r\nFlorida House of Representatives\r\nFlorida Senate\r\n\r\n\r\n--- This iCal file does *NOT* confirm registration.Event details subject to change. ---\r\n\r\n--- By Tendenci - The Open Source AMS for Associations ---\r\n
X-ALT-DESC;FMTTYPE=text/html:<div>--- This iCal file does *NOT* confirm registration.Event details subject to change. ---</div><h1>Event Title: 4th Annual Moms for Liberty Florida Legislative Day</h1><div>https://portal.momsforliberty.org/events/2936/</div><br /><div>When: Apr 03, 2025 00:00 AM US/Eastern</div><div>Speaker: Jeff Childers, Monique Miller, Graham Bernstein, Peter Schweizer, Yvette Benarroch, Jacob Kaplan, Esther Byrd</div><br />Florida State Capitol<br />400 S Monroe St.<br />Tallahassee, FL 32399<br /><div>http://maps.google.com/maps?q=400+S+Monroe+St.,Tallahassee,FL,32399</div><br /><div>Forecast: http://www.weather.com/weather/monthly/32399</div><br /><br /><div><div class=""><span class=" author-d-1gg9uz65z1iz85zgdz68zmqkz84zo2qowz81zz86zez83z1z88zz81ze0z78zz77znz74zfbz73zad5ooz89zxz86zu6z65zpz90z1z67z">Moms for Liberty Florida Legislative Committee will host their 4th Annual Legislative Days in Tallahassee. We invite members from all over the state to meet with their legislators to discuss our 2025 legislative agenda as we continue to lead the charge for parental rights in education across the country!</span></div>
<div class="">
<div class="">&nbsp\;</div>
<div class="">We hope you can join us! Registration is limited, so we encourage everyone to REGISTER NOW. *This event is non-refundable.</div>
<div class="">&nbsp\;</div>
In order to attend, you must be a current member of Moms for Liberty. Please visit MomsforLiberty.org to join.</div>
<div class="">&nbsp\;</div>
<div class="">If you have questions or issues registering (ex: you received an error message), please click below to send an email to our team. We would be happy to help!</div>
<div class="">&nbsp\;</div>
<div class=""><a class="btn btn-primary" href="mailto:a.dubach@verizon.net" target="_blank" rel="noopener">Registration Help</a></div>
<div class="">&nbsp\;</div>
<div class="">
<h2>Parking at the Capitol</h2>
<p>Please visit <a href="https://www.floridacapitol.myflorida.com/visitors/parking" target="_blank" rel="noopener">The Florida Capitol - Parking</a> for more information on where to park. &nbsp\;</p>
<div class="">&nbsp\;</div>
<div class="">
<h2>Event Itinerary&nbsp\;</h2>
<h4><span style="text-decoration: underline\;"><strong>THURSDAY, APRIL 3RD</strong></span></h4>
<p>&nbsp\;&bull\;&nbsp\;&nbsp\;&nbsp\;&nbsp\;7:30 - 9:00 AM&nbsp\;&ndash\;&nbsp\;Legislative Breakfast&nbsp\;for Legislators and Chapter Leadership at Earley&rsquo\;s at the Capitol. Dress code: Wear your Moms for Liberty gear! Location: 400 South Monroe Street, Tallahassee, Florida 32399</p>
<p>&bull\;&nbsp\;&nbsp\;&nbsp\;&nbsp\;9:00 AM - 12:00 PM&nbsp\;&ndash\; Members may meet with their legislators, observe the House or Senate in session, attend committee meetings, or tour the Capitol. &nbsp\; &nbsp\;&nbsp\;</p>
<p>&bull\;&nbsp\;&nbsp\;&nbsp\;&nbsp\;12:00 PM&nbsp\;&ndash\;&nbsp\;Group photo&nbsp\;at the Old Capitol Building (Senate chamber) &nbsp\;&nbsp\;&nbsp\;&nbsp\;</p>
<p>&bull\;&nbsp\;&nbsp\;&nbsp\;&nbsp\;12:15 - 2:00 PM&nbsp\;&ndash\;&nbsp\;Old Capitol Building (Senate chamber)&nbsp\;Boxed&nbsp\;lunch, training session, and guest speaker (TBD) &nbsp\;&nbsp\;&nbsp\;&nbsp\;</p>
<p>&bull\;&nbsp\;&nbsp\;&nbsp\;&nbsp\;2:00 - 5:00 PM&nbsp\;- &nbsp\;&nbsp\;Members may meet with their legislators, observe the House or Senate in session, attend committee meetings, or tour the Capitol &nbsp\;&nbsp\;&nbsp\;&nbsp\;</p>
<p>&bull\;&nbsp\;&nbsp\;&nbsp\;&nbsp\;6:00 - 7:00 PM&nbsp\;&ndash\;&nbsp\;Cocktail hour&nbsp\;at the Governor&rsquo\;s Club (semi-formal attire)&nbsp\;Location: Governors Club -&nbsp\;202 S Adams St, Tallahassee, FL 32301&nbsp\;&nbsp\;</p>
<p>&bull\;&nbsp\;&nbsp\;&nbsp\;&nbsp\;7:00 - 9:00 PM&nbsp\;&ndash\;&nbsp\;Dinner&nbsp\;at the Governor&rsquo\;s Club featuring keynote speaker Peter Schweizer</p>
<p>&nbsp\;</p>
<hr />
<h2>Hotel Accommodations&nbsp\;</h2>
<p>Planning to stay in Tallahassee overnight? Here are some hotels in the area.&nbsp\;</p>
<p><a class="btn btn-primary" href="https://www.hilton.com/en/hotels/thlapdt-doubletree-tallahassee/events/" target="_blank" rel="noopener">DoubleTree by Hilton Hotel Tallahassee</a></p>
<p><a class="btn btn-primary" href="https://www.marriott.com/en-us/hotels/tlhac-ac-hotel-tallahassee-universities-at-the-capitol/overview/" target="_blank" rel="noopener">AC Hotel Tallahassee Universities at the Capitol&nbsp\;</a></p>
<p><a class="btn btn-primary" href="https://www.marriott.com/en-us/hotels/tlhfp-four-points-tallahassee-downtown/overview/?scid=f2ae0541-1279-4f24-b197-a979c79310b0" target="_blank" rel="noopener">Four Points by Sheraton Tallahassee Downtown</a></p>
<p><a class="btn btn-primary" href="https://www.hilton.com/en/hotels/tlhcnru-tru-tallahassee-central/" target="_blank" rel="noopener">Tru by Hilton Tallahassee Central</a></p>
<p><a class="btn btn-primary" href="https://www.marriott.com/en-us/hotels/tlhch-courtyard-tallahassee-downtown-capitol/overview/" target="_blank" rel="noopener">Courtyard Tallahassee Downtown/Capitol</a></p>
<p>&nbsp\;</p>
</div>
<div class="">
<div class=""><hr />
<h2>Moms for Liberty Florida's 2025 Legislative Agenda</h2>
<p>Coming soon!&nbsp\;</p>
<p>&nbsp\;</p>
<hr />
<p>Curious about what bills have been filed? Please visit the Florida State House and Senate sites or reach out to your chapter's Legislative Committee Chair.&nbsp\;</p>
<p><a class="btn btn-primary" href="https://www.myfloridahouse.gov/default.aspx" target="_blank" rel="noopener">Florida House of Representatives</a></p>
<p><a class="btn btn-primary" href="https://www.flsenate.gov/" target="_blank" rel="noopener">Florida Senate</a></p>
</div>
</div>
</div></div><div>--- This iCal file does *NOT* confirm registration.Event details subject to change. ---</div><div>--- Tendenci&reg\; Software by <a href="https://www.tendenci.com">tendenci.com</a> - The Open Source AMS for Associations ---</div>
SUMMARY:4th Annual Moms for Liberty Florida Legislative Day
PRIORITY:5
CLASS:PUBLIC
BEGIN:VALARM
TRIGGER:-PT30M
ACTION:DISPLAY
DESCRIPTION:Reminder
END:VALARM
END:VEVENT
END:VCALENDAR
