BEGIN:VCALENDAR
PRODID:-//Tendenci - The Open Source AMS for Associations//Tendenci Codebase 12 MIMEDIR//EN
VERSION:2.0
METHOD:PUBLISH
BEGIN:VEVENT
DTSTAMP:20260422T071059Z
ORGANIZER:
DTSTART:20250322T020000Z
DTEND:20250322T033000Z
LOCATION:Zoom link to follow
TRANSP:OPAQUE
SEQUENCE:0
UID:uid2946@portal.momsforliberty.org
DESCRIPTION:--- This iCal file does *NOT* confirm registration.\r\nEvent details subject to change. ---\r\nhttps://portal.momsforliberty.org/events/2946/\r\n\r\nEvent Title: School Director Candidate Resource Forum\r\nStart Date / Time: Mar 21, 2025 19:00 PM Canada/Pacific\r\nLocation: Zoom link to follow\r\nSchool Board Directors have the duty to make certain WA students receive an appropriate education, thus ensuring the prosperity and future of our state and nation.  For too long, candidates were left to their own devices. Those days are gone!\r\nWe are pleased to be hosting a forum where prospective candidates can learn how to run and then lead in their districts. Panel participants include Randy Hayden, School Director and leader of the WSSDA Conservative Caucus, experienced campaign advisors from King and Pierce Counties, Chapter Chair of M4L-KC and Washington State Republican Party (WAGOP) Chairman and State Representative Jim Walsh (LD19).\r\n\r\nNuts and bolts of running for office\r\nOpportunities for training\r\nMessaging\r\nEducation facts in WA state\r\nWhat you need to know in order to lead your district\r\n\r\nJoin us if you are considering a run for office or want to help manage a campaign. --- This iCal file does *NOT* confirm registration.Event details subject to change. ---\r\n\r\n--- By Tendenci - The Open Source AMS for Associations ---\r\n
X-ALT-DESC;FMTTYPE=text/html:<div>--- This iCal file does *NOT* confirm registration.Event details subject to change. ---</div><h1>Event Title: School Director Candidate Resource Forum</h1><div>https://portal.momsforliberty.org/events/2946/</div><br /><div>When: Mar 21, 2025 19:00 PM Canada/Pacific</div><br /><div><p>School Board Directors have the duty to make certain WA students receive an appropriate education, thus ensuring the prosperity and future of our state and nation. &nbsp\;For too long, candidates were left to their own devices. Those days are gone!</p>
<p>We are pleased to be hosting a forum where prospective candidates can learn how to run and then lead in their districts. Panel participants include Randy Hayden, School Director and leader of the WSSDA Conservative Caucus, experienced campaign advisors from King and Pierce Counties, Chapter Chair of M4L-KC and&nbsp\;Washington State Republican Party (WAGOP) Chairman and State Representative Jim Walsh (LD19).<br /><br /></p>
<ul>
<li>Nuts and bolts of running for office</li>
<li>Opportunities for training</li>
<li>Messaging</li>
<li>Education facts in WA state</li>
<li>What you need to know in order&nbsp\;to lead your district</li>
</ul>
<p>Join us if you are considering a run for office or want to help manage a campaign.&nbsp\;</p></div><div>--- This iCal file does *NOT* confirm registration.Event details subject to change. ---</div><div>--- Tendenci&reg\; Software by <a href="https://www.tendenci.com">tendenci.com</a> - The Open Source AMS for Associations ---</div>
SUMMARY:School Director Candidate Resource Forum
PRIORITY:5
CLASS:PUBLIC
BEGIN:VALARM
TRIGGER:-PT30M
ACTION:DISPLAY
DESCRIPTION:Reminder
END:VALARM
END:VEVENT
END:VCALENDAR
