BEGIN:VCALENDAR
PRODID:-//Tendenci - The Open Source AMS for Associations//Tendenci Codebase 12 MIMEDIR//EN
VERSION:2.0
METHOD:PUBLISH
BEGIN:VEVENT
DTSTAMP:20260422T105829Z
ORGANIZER:M4LU
DTSTART:20250429T223000Z
DTEND:20250430T010000Z
LOCATION:Virtual Watch Party of No Way Back: The Reality of Gender Affirming Care
TRANSP:OPAQUE
SEQUENCE:0
UID:uid2974@portal.momsforliberty.org
DESCRIPTION:--- This iCal file does *NOT* confirm registration.\r\nEvent details subject to change. ---\r\nhttps://portal.momsforliberty.org/events/2974/\r\n\r\nEvent Title: Virtual Watch Party of "No Way Back"\r\nStart Date / Time: Apr 29, 2025 18:30 PM US/Eastern\r\nLocation: Virtual Watch Party of No Way Back: The Reality of Gender Affirming Care\r\nSpeaker: Joey Brite, Stephanie Winn\r\n5 patients. 50 medical studies. A tidal wave of regret.\r\nNo Way Back - the detransitioner documentary - tells the stories of five detransitioners who experienced medical malpractice in the hands of the professionals. Called "compassionate, level-headed, zero frames of hate," this non-political, non-religious documentary was the first one to feature the vulnerable cohorts: gay, lesbian, bisexual, neurodivergent, traumatized, mentally ill youth ensnared in a new ideology and immediately pushed towards medicalization. The film also examined some of the profound health risks associated with "gender medicine" and the true impact when gender affirmation transition is the only option presented to children and adolescents struggling to accept themselves. Official selection / winner of 14 international film festivals.\r\nJoin M4LU as we view this compelling documentary as part of our month-long focus on Gender Ideology and the tragedy it is wreaking on our children. Interact with other attendees and our guests, and be sure to stay on after the viewing for a live Q&amp\;A with Joey Brite, Executive Producer, and Stephanie Winn, Associate Producer. \r\nFind out more about Moms for Liberty's virtual watch parties at https://m4lu.org/watch-party/.\r\n\r\n**Ticket Purchase required to join the watch party. You will receive a password in your registration confirmation email.**\r\nJoin the M4LU Live Stream to interact with other viewers and submit questions in Vimeo or YouTube.\r\nLive Stream Links:ViMEO Live Stream of No Way BackYouTube Live Stream of No Way Back\r\n \r\n \r\n \r\n --- This iCal file does *NOT* confirm registration.Event details subject to change. ---\r\n\r\n--- By Tendenci - The Open Source AMS for Associations ---\r\n
X-ALT-DESC;FMTTYPE=text/html:<div>--- This iCal file does *NOT* confirm registration.Event details subject to change. ---</div><h1>Event Title: Virtual Watch Party of "No Way Back"</h1><div>https://portal.momsforliberty.org/events/2974/</div><br /><div>When: Apr 29, 2025 18:30 PM US/Eastern</div><div>Speaker: Joey Brite, Stephanie Winn</div><br /><div><p>5 patients. 50 medical studies. A tidal wave of regret.</p>
<p class=""><strong><em>No Way Back </em></strong>- the detransitioner documentary -&nbsp\;tells the stories of five detransitioners who experienced medical malpractice in the hands of the professionals. Called <em>"compassionate, level-headed, zero frames of hate,"</em> this non-political, non-religious documentary was the first one to feature the <em>vulnerable cohorts: </em>gay, lesbian, bisexual, neurodivergent, traumatized, mentally ill youth ensnared in a new ideology and immediately pushed towards medicalization. The film also examined some of the profound health risks associated with "gender medicine" and&nbsp\;the true impact when gender affirmation transition is the only option presented to children and adolescents struggling to accept themselves. Official selection / winner of 14 international film festivals.</p>
<p>Join M4LU as we view this compelling documentary as part of our month-long focus on <strong>Gender Ideology</strong> and the tragedy it is wreaking on our children. Interact with other attendees and our guests, and <strong>be sure to stay on after the viewing for a live Q&amp\;A with Joey Brite, Executive Producer, and Stephanie Winn, Associate Producer.&nbsp\;</strong></p>
<p>Find out more about Moms for Liberty's virtual watch parties at&nbsp\;<a href="https://m4lu.org/watch-party/">https://m4lu.org/watch-party/</a>.</p>
<hr />
<p><em>**Ticket Purchase required to join the watch party. You will receive a password in your registration confirmation email.**</em></p>
<p>Join the M4LU Live Stream to interact with other viewers and submit questions in Vimeo or YouTube.</p>
<p><span style="text-decoration: underline\;"><strong>Live Stream Links</strong></span><strong>:</strong><br /><a href="https://vimeo.com/event/5043299">ViMEO Live Stream of <em>No Way Back</em></a><a href="https://vimeo.com/event/4980790"><br /></a><a href="https://www.youtube.com/live/V6cJAz8PfxI?si=5h4L2tPESBR2YPeM" target="_blank" rel="noopener">YouTube Live Stream of&nbsp\;<em>No Way Back</em></a></p>
<p>&nbsp\;</p>
<p>&nbsp\;</p>
<p>&nbsp\;</p>
<p>&nbsp\;</p></div><div>--- This iCal file does *NOT* confirm registration.Event details subject to change. ---</div><div>--- Tendenci&reg\; Software by <a href="https://www.tendenci.com">tendenci.com</a> - The Open Source AMS for Associations ---</div>
SUMMARY:Virtual Watch Party of "No Way Back"
PRIORITY:5
CLASS:PUBLIC
BEGIN:VALARM
TRIGGER:-PT30M
ACTION:DISPLAY
DESCRIPTION:Reminder
END:VALARM
END:VEVENT
END:VCALENDAR
