BEGIN:VCALENDAR
PRODID:-//Tendenci - The Open Source AMS for Associations//Tendenci Codebase 12 MIMEDIR//EN
VERSION:2.0
METHOD:PUBLISH
BEGIN:VEVENT
DTSTAMP:20260420T223815Z
ORGANIZER:
DTSTART:20250430T223000Z
DTEND:20250501T003000Z
LOCATION:Rincon Italian Grill
TRANSP:OPAQUE
SEQUENCE:0
UID:uid3002@portal.momsforliberty.org
DESCRIPTION:--- This iCal file does *NOT* confirm registration.\r\nEvent details subject to change. ---\r\nhttps://portal.momsforliberty.org/events/3002/\r\n\r\nEvent Title: Spring Chapter Meeting\r\nStart Date / Time: Apr 30, 2025 18:30 PM US/Eastern\r\nLocation: Rincon Italian Grill\r\nGoogle\r\nhttp://maps.google.com/maps?q=577+Johnsville+Rd,Sykesville,MD\r\n\r\nForecast\nhttp://www.weather.com/weather/monthly/\r\n\r\nJoin us for our spring Chapter Meeting! We will be focusing on Comprehensive Sexuality Education that is required by Maryland State Department of Education.--- This iCal file does *NOT* confirm registration.Event details subject to change. ---\r\n\r\n--- By Tendenci - The Open Source AMS for Associations ---\r\n
X-ALT-DESC;FMTTYPE=text/html:<div>--- This iCal file does *NOT* confirm registration.Event details subject to change. ---</div><h1>Event Title: Spring Chapter Meeting</h1><div>https://portal.momsforliberty.org/events/3002/</div><br /><div>When: Apr 30, 2025 18:30 PM US/Eastern</div><br />Rincon Italian Grill<br />577 Johnsville Rd<br />Sykesville, MD<br /><div>http://maps.google.com/maps?q=577+Johnsville+Rd,Sykesville,MD</div><br /><div>Forecast: http://www.weather.com/weather/monthly/</div><br /><br /><div><p>Join us for our spring Chapter Meeting! We will be focusing on Comprehensive Sexuality Education that is required by Maryland State Department of Education.</p></div><div>--- This iCal file does *NOT* confirm registration.Event details subject to change. ---</div><div>--- Tendenci&reg\; Software by <a href="https://www.tendenci.com">tendenci.com</a> - The Open Source AMS for Associations ---</div>
SUMMARY:Spring Chapter Meeting
PRIORITY:5
CLASS:PUBLIC
BEGIN:VALARM
TRIGGER:-PT30M
ACTION:DISPLAY
DESCRIPTION:Reminder
END:VALARM
END:VEVENT
END:VCALENDAR
