BEGIN:VCALENDAR
PRODID:-//Tendenci - The Open Source AMS for Associations//Tendenci Codebase 12 MIMEDIR//EN
VERSION:2.0
METHOD:PUBLISH
BEGIN:VEVENT
DTSTAMP:20260425T231920Z
ORGANIZER:
DTSTART:20250501T190000Z
DTEND:20250501T210000Z
LOCATION:Beck Recreational Center
TRANSP:OPAQUE
SEQUENCE:0
UID:uid3012@portal.momsforliberty.org
DESCRIPTION:--- This iCal file does *NOT* confirm registration.\r\nEvent details subject to change. ---\r\nhttps://portal.momsforliberty.org/events/3012/\r\n\r\nEvent Title: Giving Parents a Voice Town Hall\r\nStart Date / Time: May 01, 2025 19:00 PM UTC\r\nLocation: Beck Recreational Center\r\nGoogle\r\nhttp://maps.google.com/maps?q=800+N.+Telluride+Street,Aurora,CO,80011\r\n\r\nForecast\nhttp://www.weather.com/weather/monthly/80011\r\n\r\nGiving Parents A Voice TownhallParental Rights are in Danger in ColoradoGet your questions answered and have your voice heard.\r\n \r\nMAY 1, 2025\r\n7PM-9PM\r\nDOORS OPEN AT 6:30PM\r\nAURORA, CO\r\n \r\nJoin us for a critical discussion on the latest threats to parental rights in Colorado.\r\nHouse Bill 25-1312 has already passed the Colorado House and is now moving to the Senate. If enacted, this legislation would set a troubling precedent by classifying "deadnaming" and "misgendering" as forms of coercion in custody disputes.\r\n \r\nFurthermore, the bill proposes significant changes to the Colorado Anti-Discrimination Act, redefining these terms as discriminatory acts subject to penalties enforced by the Colorado Civil Rights Division.\r\nThe implications for schools, families, and the fundamental rights of parents are profound and far-reaching. Don&rsquo\;t miss this important conversation about what&rsquo\;s at stake.\r\n \r\n(All viewpoints welcome)\r\nThis event is free, but SPACE IS LIMITED.RSVP today! Seating will be first come, first served.https://portal.momsforliberty.org/townhall/--- This iCal file does *NOT* confirm registration.Event details subject to change. ---\r\n\r\n--- By Tendenci - The Open Source AMS for Associations ---\r\n
X-ALT-DESC;FMTTYPE=text/html:<div>--- This iCal file does *NOT* confirm registration.Event details subject to change. ---</div><h1>Event Title: Giving Parents a Voice Town Hall</h1><div>https://portal.momsforliberty.org/events/3012/</div><br /><div>When: May 01, 2025 19:00 PM UTC</div><br />Beck Recreational Center<br />800 N. Telluride Street<br />Aurora, CO 80011<br /><div>http://maps.google.com/maps?q=800+N.+Telluride+Street,Aurora,CO,80011</div><br /><div>Forecast: http://www.weather.com/weather/monthly/80011</div><br /><br /><div><div class="xdj266r x11i5rnm xat24cr x1mh8g0r x1vvkbs">Giving Parents A Voice Townhall<br class="html-br" />Parental Rights are in Danger in Colorado<br class="html-br" />Get your questions answered and have your voice heard.</div>
<div class="xdj266r x11i5rnm xat24cr x1mh8g0r x1vvkbs">&nbsp\;</div>
<div class="x11i5rnm xat24cr x1mh8g0r x1vvkbs xtlvy1s">MAY 1, 2025</div>
<div class="x11i5rnm xat24cr x1mh8g0r x1vvkbs xtlvy1s">7PM-9PM</div>
<div class="x11i5rnm xat24cr x1mh8g0r x1vvkbs xtlvy1s"><strong>DOORS OPEN AT 6:30PM</strong></div>
<div class="x11i5rnm xat24cr x1mh8g0r x1vvkbs xtlvy1s">AURORA, CO</div>
<div class="x11i5rnm xat24cr x1mh8g0r x1vvkbs xtlvy1s">&nbsp\;</div>
<div class="x11i5rnm xat24cr x1mh8g0r x1vvkbs xtlvy1s">Join us for a critical discussion on the latest threats to parental rights in Colorado.</div>
<div class="x11i5rnm xat24cr x1mh8g0r x1vvkbs xtlvy1s">House Bill 25-1312 has already passed the Colorado House and is now moving to the Senate. If enacted, this legislation would set a troubling precedent by classifying "deadnaming" and "misgendering" as forms of coercion in custody disputes.</div>
<div class="x11i5rnm xat24cr x1mh8g0r x1vvkbs xtlvy1s">&nbsp\;</div>
<div class="x11i5rnm xat24cr x1mh8g0r x1vvkbs xtlvy1s">Furthermore, the bill proposes significant changes to the Colorado Anti-Discrimination Act, redefining these terms as discriminatory acts subject to penalties enforced by the Colorado Civil Rights Division.</div>
<div class="x11i5rnm xat24cr x1mh8g0r x1vvkbs xtlvy1s">The implications for schools, families, and the fundamental rights of parents are profound and far-reaching. Don&rsquo\;t miss this important conversation about what&rsquo\;s at stake.</div>
<div class="x11i5rnm xat24cr x1mh8g0r x1vvkbs xtlvy1s">&nbsp\;</div>
<div class="x11i5rnm xat24cr x1mh8g0r x1vvkbs xtlvy1s">(All viewpoints welcome)</div>
<div class="x11i5rnm xat24cr x1mh8g0r x1vvkbs xtlvy1s"><br class="html-br" />This event is free, but SPACE IS LIMITED.<br class="html-br" />RSVP today! Seating will be first come, first served.<br class="html-br" /><a class="x1i10hfl xjbqb8w x1ejq31n xd10rxx x1sy0etr x17r0tee x972fbf xcfux6l x1qhh985 xm0m39n x9f619 x1ypdohk xt0psk2 xe8uvvx xdj266r x11i5rnm xat24cr x1mh8g0r xexx8yu x4uap5 x18d9i69 xkhd6sd x16tdsg8 x1hl2dhg xggy1nq x1a2a7pz xkrqix3 x1sur9pj x1fey0fg x1s688f" tabindex="0" role="link" href="https://portal.momsforliberty.org/townhall/?fbclid=IwZXh0bgNhZW0CMTAAYnJpZBExQTRiZEZ6dFJDaXJhamFKZgEe4MS44JIH5gOTWHqwkrTR8x8sP_DL9adGbj1sU9L7mTK0lTmzS79YTD0SLik_aem_Q6H-OeGBbsiZTK9xsGByIQ" target="_blank" rel="nofollow noopener">https://portal.momsforliberty.org/townhall/</a></div></div><div>--- This iCal file does *NOT* confirm registration.Event details subject to change. ---</div><div>--- Tendenci&reg\; Software by <a href="https://www.tendenci.com">tendenci.com</a> - The Open Source AMS for Associations ---</div>
SUMMARY:Giving Parents a Voice Town Hall
PRIORITY:5
CLASS:PUBLIC
BEGIN:VALARM
TRIGGER:-PT30M
ACTION:DISPLAY
DESCRIPTION:Reminder
END:VALARM
END:VEVENT
END:VCALENDAR
