BEGIN:VCALENDAR
PRODID:-//Tendenci - The Open Source AMS for Associations//Tendenci Codebase 12 MIMEDIR//EN
VERSION:2.0
METHOD:PUBLISH
BEGIN:VEVENT
DTSTAMP:20260422T144501Z
ORGANIZER:
DTSTART:20250810T210000Z
DTEND:20250817T010000Z
LOCATION:
TRANSP:OPAQUE
SEQUENCE:0
UID:uid3098@portal.momsforliberty.org
DESCRIPTION:--- This iCal file does *NOT* confirm registration.\r\nEvent details subject to change. ---\r\nhttps://portal.momsforliberty.org/events/3098/\r\n\r\nEvent Title: Mckean County Fair\r\nStart Date / Time: Aug 10, 2025 17:00 PM US/Eastern\r\nLocation: \r\nMoms for Liberty Mckean County Fair --- This iCal file does *NOT* confirm registration.Event details subject to change. ---\r\n\r\n--- By Tendenci - The Open Source AMS for Associations ---\r\n
X-ALT-DESC;FMTTYPE=text/html:<div>--- This iCal file does *NOT* confirm registration.Event details subject to change. ---</div><h1>Event Title: Mckean County Fair</h1><div>https://portal.momsforliberty.org/events/3098/</div><br /><div>When: Aug 10, 2025 17:00 PM US/Eastern</div><br /><div><p>Moms for Liberty Mckean County Fair&nbsp\;</p></div><div>--- This iCal file does *NOT* confirm registration.Event details subject to change. ---</div><div>--- Tendenci&reg\; Software by <a href="https://www.tendenci.com">tendenci.com</a> - The Open Source AMS for Associations ---</div>
SUMMARY:Mckean County Fair
PRIORITY:5
CLASS:PUBLIC
BEGIN:VALARM
TRIGGER:-PT30M
ACTION:DISPLAY
DESCRIPTION:Reminder
END:VALARM
END:VEVENT
END:VCALENDAR
