BEGIN:VCALENDAR
PRODID:-//Tendenci - The Open Source AMS for Associations//Tendenci Codebase 12 MIMEDIR//EN
VERSION:2.0
METHOD:PUBLISH
BEGIN:VEVENT
DTSTAMP:20260422T144451Z
ORGANIZER:M4L Academy
DTSTART:20250826T230000Z
DTEND:20250827T000000Z
LOCATION:Campus Briefing LIVESTREAM: Be Involved, Get Engaged
TRANSP:OPAQUE
SEQUENCE:0
UID:uid3114@portal.momsforliberty.org
DESCRIPTION:--- This iCal file does *NOT* confirm registration.\r\nEvent details subject to change. ---\r\nhttps://portal.momsforliberty.org/events/3114/\r\n\r\nEvent Title: M4L Academy  || Campus Briefing LIVESTREAM: Getting Engaged & Staying Involved\r\nStart Date / Time: Aug 26, 2025 19:00 PM US/Eastern\r\nLocation: Campus Briefing LIVESTREAM: Be Involved, Get Engaged\r\nSpeaker: Becky Lew-Hobbs, Jenn Turner\r\n\r\nAre you ready to move from concerned to confident when it comes to your child&rsquo\;s education? In this empowering Campus Briefing LIVESTREAM, join Missy Karwowski as she talks with Moms for Liberty chapter leaders about how everyday parents are stepping up, getting involved, and making a real impact in their schools. From volunteering in classrooms to navigating school board meetings and district policies, this panel will explore what it means to be both involved and engaged&mdash\;and how you can do it too.\r\nYou&rsquo\;ll hear real stories from parents who&rsquo\;ve faced challenges like concussion policy failures, curriculum concerns, and communication breakdowns&mdash\;and turned those moments into action. Whether you're a stay-at-home parent, working full-time, or juggling multiple school systems, this conversation will give you practical steps and encouragement to get started.\r\n📣 Don&rsquo\;t miss your chance to be part of the movement. RSVP now and submit your questions to M4LAcademy@momsforliberty.org\r\n🔗 Subscribe, share, and visit momsforliberty.org to find your local chapter or start one today. Your voice matters. Your involvement makes a difference. Let&rsquo\;s do this&mdash\;together.\r\n\r\nThis is part of M4L Academy's Back2School series in August. \r\n\r\nThe LIVESTREAM is open to the public: Watch the Livestream on YouTube\r\n \r\n \r\n \r\n \r\n \r\n --- This iCal file does *NOT* confirm registration.Event details subject to change. ---\r\n\r\n--- By Tendenci - The Open Source AMS for Associations ---\r\n
X-ALT-DESC;FMTTYPE=text/html:<div>--- This iCal file does *NOT* confirm registration.Event details subject to change. ---</div><h1>Event Title: M4L Academy  || Campus Briefing LIVESTREAM: Getting Engaged & Staying Involved</h1><div>https://portal.momsforliberty.org/events/3114/</div><br /><div>When: Aug 26, 2025 19:00 PM US/Eastern</div><div>Speaker: Becky Lew-Hobbs, Jenn Turner</div><br /><div><div class="ql-block" data-block-id="block-4ce5bd5e-f3e9-4971-b6e1-4a144f66e2bb">
<p>Are you ready to move from concerned to confident when it comes to your child&rsquo\;s education? In this empowering Campus Briefing LIVESTREAM, join Missy Karwowski as she talks with Moms for Liberty chapter leaders about how everyday parents are stepping up, getting involved, and making a real impact in their schools. From volunteering in classrooms to navigating school board meetings and district policies, this panel will explore what it means to be both involved and engaged&mdash\;and how you can do it too.</p>
<p>You&rsquo\;ll hear real stories from parents who&rsquo\;ve faced challenges like concussion policy failures, curriculum concerns, and communication breakdowns&mdash\;and turned those moments into action. Whether you're a stay-at-home parent, working full-time, or juggling multiple school systems, this conversation will give you practical steps and encouragement to get started.</p>
<p>📣 Don&rsquo\;t miss your chance to be part of the movement. RSVP now and submit your questions to <a href="mailto:M4LAcademy@momsforliberty.org">M4LAcademy@momsforliberty.org</a></p>
<p><br />🔗 Subscribe, share, and visit&nbsp\;<a class="fui-Link ___w5et180 f2hkw1w f3rmtva f1ewtqcl fyind8e f1k6fduh f1w7gpdv f1mo0ibp fjoy568 ff5ikls f1s184ao f1mk8lai fnbmjn9 f1o700av f13mvf36 f1cmlufx f9n3di6 f1ids18y f1tx3yz7 f1deo86v f1eh06m1 f1iescvh fhgqx19 f1olyrje f1p93eir f1nev41a" tabindex="0" href="https://momsforliberty.org/" target="_blank" rel="noopener" data-tabster="{&quot\;restorer&quot\;:{&quot\;type&quot\;:1}}">momsforliberty.org</a>&nbsp\;to find your local chapter or start one today. Your voice matters. Your involvement makes a difference. Let&rsquo\;s do this&mdash\;together.</p>
<hr />
<p>This is part of M4L Academy's Back2School series in August.&nbsp\;</p>
</div>
<p>The LIVESTREAM is open to the public: <a href="https://www.youtube.com/@Moms4Liberty/streams" target="_blank" rel="noopener">Watch the Livestream on YouTube</a></p>
<p>&nbsp\;</p>
<p>&nbsp\;</p>
<p>&nbsp\;</p>
<p>&nbsp\;</p>
<p>&nbsp\;</p>
<p>&nbsp\;</p></div><div>--- This iCal file does *NOT* confirm registration.Event details subject to change. ---</div><div>--- Tendenci&reg\; Software by <a href="https://www.tendenci.com">tendenci.com</a> - The Open Source AMS for Associations ---</div>
SUMMARY:M4L Academy  || Campus Briefing LIVESTREAM: Getting Engaged & Staying Involved
PRIORITY:5
CLASS:PUBLIC
BEGIN:VALARM
TRIGGER:-PT30M
ACTION:DISPLAY
DESCRIPTION:Reminder
END:VALARM
END:VEVENT
END:VCALENDAR
