BEGIN:VCALENDAR
PRODID:-//Tendenci - The Open Source AMS for Associations//Tendenci Codebase 12 MIMEDIR//EN
VERSION:2.0
METHOD:PUBLISH
BEGIN:VEVENT
DTSTAMP:20260422T144613Z
ORGANIZER:
DTSTART:20251120T230000Z
DTEND:20251121T010000Z
LOCATION:Location Disclosed Upon Confirmation
TRANSP:OPAQUE
SEQUENCE:0
UID:uid3181@portal.momsforliberty.org
DESCRIPTION:--- This iCal file does *NOT* confirm registration.\r\nEvent details subject to change. ---\r\nhttps://portal.momsforliberty.org/events/3181/\r\n\r\nEvent Title: November Chapter Meeting\r\nStart Date / Time: Nov 20, 2025 18:00 PM US/Eastern\r\nLocation: Location Disclosed Upon Confirmation\r\nSpeaker: Elaine Pelino\r\n \r\nYou're invited to hear what we have been doing in RI and beyond for parental rights and what new tools we have to unify, educate, and empower parents (and others) to defend parental rights at all levels of government.\r\n \r\nCelebrate our second anniversay with us as we honor patriots who have been key assets in our mission with our first Founder's Awards.\r\n \r\nOur honored speaker will be Rhode Island Gubernatorial candidate Elaine Pelino! She is a strong conservative and parental rights advocate. You will want to hear her vision for Rhode Island, so bring your questions along with family and friends.\r\n \r\nSuggested donation of $15 min. is appreciated. Artisan pizza providedMenu items available for purchaseSilent auction--- This iCal file does *NOT* confirm registration.Event details subject to change. ---\r\n\r\n--- By Tendenci - The Open Source AMS for Associations ---\r\n
X-ALT-DESC;FMTTYPE=text/html:<div>--- This iCal file does *NOT* confirm registration.Event details subject to change. ---</div><h1>Event Title: November Chapter Meeting</h1><div>https://portal.momsforliberty.org/events/3181/</div><br /><div>When: Nov 20, 2025 18:00 PM US/Eastern</div><div>Speaker: Elaine Pelino</div><br /><div><p>&nbsp\;</p>
<div class="xdj266r x14z9mp xat24cr x1lziwak x1vvkbs">You're invited to hear what we have been doing in RI and beyond for parental rights and what new tools we have to unify, educate, and empower parents (and others) to defend parental rights at all levels of government.</div>
<div class="xdj266r x14z9mp xat24cr x1lziwak x1vvkbs">&nbsp\;</div>
<div class="x14z9mp xat24cr x1lziwak x1vvkbs xtlvy1s">Celebrate our second anniversay with us as we honor patriots who have been key assets in our mission with our first Founder's Awards.</div>
<div class="x14z9mp xat24cr x1lziwak x1vvkbs xtlvy1s">&nbsp\;</div>
<div class="x14z9mp xat24cr x1lziwak x1vvkbs xtlvy1s">Our honored speaker will be Rhode Island Gubernatorial candidate Elaine Pelino! She is a strong conservative and parental rights advocate. You will want to hear her vision for Rhode Island, so bring your questions along with family and friends.</div>
<div class="x14z9mp xat24cr x1lziwak x1vvkbs xtlvy1s">&nbsp\;</div>
<div class="x14z9mp xat24cr x1lziwak x1vvkbs xtlvy1s">Suggested donation of $15 min. is appreciated. <br class="html-br" />Artisan pizza provided<br class="html-br" />Menu items available for purchase<br class="html-br" />Silent auction</div></div><div>--- This iCal file does *NOT* confirm registration.Event details subject to change. ---</div><div>--- Tendenci&reg\; Software by <a href="https://www.tendenci.com">tendenci.com</a> - The Open Source AMS for Associations ---</div>
SUMMARY:November Chapter Meeting
PRIORITY:5
CLASS:PUBLIC
BEGIN:VALARM
TRIGGER:-PT30M
ACTION:DISPLAY
DESCRIPTION:Reminder
END:VALARM
END:VEVENT
END:VCALENDAR
