BEGIN:VCALENDAR
PRODID:-//Tendenci - The Open Source AMS for Associations//Tendenci Codebase 12 MIMEDIR//EN
VERSION:2.0
METHOD:PUBLISH
BEGIN:VEVENT
DTSTAMP:20260422T174459Z
ORGANIZER:
DTSTART:20260116T030000Z
DTEND:20260116T043000Z
LOCATION:Kenmore Lanes Banquet Room
TRANSP:OPAQUE
SEQUENCE:0
UID:uid3215@portal.momsforliberty.org
DESCRIPTION:--- This iCal file does *NOT* confirm registration.\r\nEvent details subject to change. ---\r\nhttps://portal.momsforliberty.org/events/3215/\r\n\r\nEvent Title: Annual Meeting\r\nStart Date / Time: Jan 15, 2026 19:00 PM US/Pacific\r\nLocation: Kenmore Lanes Banquet Room\r\nGoogle\r\nhttp://maps.google.com/maps?q=7638+NE+Bothell+Way,Kenmore,WA\r\n\r\nForecast\nhttp://www.weather.com/weather/monthly/\r\n\r\n \r\nPlease join us as we celebrate the start of our fourth year as a chapter!  Hear about our successes and upcoming plans.  \r\n\r\nLearn how to be part of the most important battle of our time: parental rights!\r\nWe will be electing new officers\r\nStay tuned for information about our speaker. \r\n\r\n🍰There will be cake! 🍰\r\n \r\nContact: Beth Daranciang 206-979-1543\r\n \r\nThe meeting is free to General Members and there will be a charge of $5.00 to Associate members at the door.\r\n \r\nNote: Door opens at 6:45 and you are welcome to purchase food and beverages from the restaurant. The meeting will start promptly at 7:00.--- This iCal file does *NOT* confirm registration.Event details subject to change. ---\r\n\r\n--- By Tendenci - The Open Source AMS for Associations ---\r\n
X-ALT-DESC;FMTTYPE=text/html:<div>--- This iCal file does *NOT* confirm registration.Event details subject to change. ---</div><h1>Event Title: Annual Meeting</h1><div>https://portal.momsforliberty.org/events/3215/</div><br /><div>When: Jan 15, 2026 19:00 PM US/Pacific</div><br />Kenmore Lanes Banquet Room<br />7638 NE Bothell Way<br />Kenmore, WA<br /><div>http://maps.google.com/maps?q=7638+NE+Bothell+Way,Kenmore,WA</div><br /><div>Forecast: http://www.weather.com/weather/monthly/</div><br /><br /><div><p>&nbsp\;</p>
<p><strong>Please join us as we celebrate the start of our fourth year as a chapter! &nbsp\;<br />Hear about our successes and upcoming plans. &nbsp\;</strong></p>
<ul>
<li class="elementToProof"><strong>Learn how to be part of the most important battle of our time: parental rights!</strong></li>
<li class="elementToProof"><strong>We will be electing new officers</strong></li>
<li class="elementToProof"><strong>Stay tuned for information about our speaker.&nbsp\;</strong><em><br /></em></li>
</ul>
<div class="elementToProof" style="text-align: center\;"><em>🍰There will be cake! 🍰</em></div>
<div class="elementToProof"><strong>&nbsp\;</strong></div>
<div class="elementToProof">Contact: Beth Daranciang <a href="tel:206-979-1543" target="_blank" rel="noopener">206-979-1543</a></div>
<div class="elementToProof">&nbsp\;</div>
<div class="elementToProof"><strong>The meeting is free to General Members and there will be a charge of $5.00 to Associate members at the door.</strong></div>
<div class="elementToProof">&nbsp\;</div>
<div class="elementToProof">Note: Door opens at 6:45 and you are welcome to purchase food and beverages from the restaurant. The meeting will start promptly at 7:00.</div></div><div>--- This iCal file does *NOT* confirm registration.Event details subject to change. ---</div><div>--- Tendenci&reg\; Software by <a href="https://www.tendenci.com">tendenci.com</a> - The Open Source AMS for Associations ---</div>
SUMMARY:Annual Meeting
PRIORITY:5
CLASS:PUBLIC
BEGIN:VALARM
TRIGGER:-PT30M
ACTION:DISPLAY
DESCRIPTION:Reminder
END:VALARM
END:VEVENT
END:VCALENDAR
