BEGIN:VCALENDAR
PRODID:-//Tendenci - The Open Source AMS for Associations//Tendenci Codebase 12 MIMEDIR//EN
VERSION:2.0
METHOD:PUBLISH
BEGIN:VEVENT
DTSTAMP:20260423T190151Z
ORGANIZER:Broad + Liberty | Restore Childhood
DTSTART:20260201T190000Z
DTEND:20260201T210000Z
LOCATION:Newtown Athletic Club - NAC
TRANSP:OPAQUE
SEQUENCE:0
UID:uid3278@portal.momsforliberty.org
DESCRIPTION:--- This iCal file does *NOT* confirm registration.\r\nEvent details subject to change. ---\r\nhttps://portal.momsforliberty.org/events/3278/\r\n\r\nEvent Title: Bucks County Movie Premiere 15 Days\r\nStart Date / Time: Feb 01, 2026 14:00 PM US/Eastern\r\nLocation: Newtown Athletic Club - NAC\r\nGoogle\r\nhttp://maps.google.com/maps?q=120+Pheasant+Run,Newtown,PA,18940\r\n\r\nForecast\nhttp://www.weather.com/weather/monthly/18940\r\n\r\nYou're Invited: Bucks Country Premiere of 15 DAYS\r\nTickets: $10 (with the opportunity to donate more) can be purchased at, https://myphillytickets.com/e/bucks-country-premiere-of-15-days\r\nThe Real Story of America's Pandemic School Closures\r\nThey said 15 days to flatten the curve. Schools stayed closed for 500+ days.\r\n15 DAYS is a forensic investigation into one of the greatest institutional failures in American history&mdash\;and a case study in how unchecked bureaucratic power can override science, parental authority, and the rule of law.\r\nJoin director Natalya Murakhver&mdash\;the NYC mother who sued Mayor de Blasio to reopen schools and co-founded Restore Childhood&mdash\;for this groundbreaking documentary featuring experts including NIH Director Dr. Jay Bhattacharya, Dr. Scott Atlas, and leading education scholars.\r\nThis film keeps the receipts. It traces how $189.5 billion in federal funds and teachers' union influence kept American children isolated longer than nearly any developed nation&mdash\;despite overwhelming scientific evidence to reopen. While other Western democracies prioritized educational continuity and children's wellbeing, American public institutions sacrificed a generation's learning and mental health to political expediency.\r\nThis is about institutional integrity. When special interests captured public policy and labeled concerned parents "domestic terrorists," they revealed something fundamental about the limits of state authority over family autonomy.\r\nIf we don't learn to identify the systems that enabled this, we won't recognize similar patterns of institutional capture in the future.\r\nThe film examines the most powerful forces reshaping American education, our children's minds and the future of this country. \r\nThe questions this film answers: \r\n\r\nWho bears responsibility for keeping America's schools closed and why did they do it?\r\nWhat is their connection to the activist organizations that have changed American society over the past six years and how do we take our country back?\r\n\r\nEvent Schedule\r\n2:00 PM &ndash\; Film Screening\r\n3:15 PM &ndash\; Panel DiscussionHosted by Dawn Stensland, Emmy Award-winning journalist, news anchor, and host of The Dawn Stensland Show.Featuring:&bull\; Natalya Murakhver&bull\; Paul Martino&bull\; Vanessa Martino&bull\; Beth Ann Rosica\r\nFollowing the panel &ndash\; Networking ReceptionEnjoy light snacks and a cash bar while connecting with fellow attendees.\r\nFor more information visit www.15daysfilm.com.\r\n \r\n \r\n --- This iCal file does *NOT* confirm registration.Event details subject to change. ---\r\n\r\n--- By Tendenci - The Open Source AMS for Associations ---\r\n
X-ALT-DESC;FMTTYPE=text/html:<div>--- This iCal file does *NOT* confirm registration.Event details subject to change. ---</div><h1>Event Title: Bucks County Movie Premiere 15 Days</h1><div>https://portal.momsforliberty.org/events/3278/</div><br /><div>When: Feb 01, 2026 14:00 PM US/Eastern</div><br />Newtown Athletic Club - NAC<br />120 Pheasant Run<br />Newtown, PA 18940<br /><div>http://maps.google.com/maps?q=120+Pheasant+Run,Newtown,PA,18940</div><br /><div>Forecast: http://www.weather.com/weather/monthly/18940</div><br /><br /><div><p><strong>You're Invited: Bucks Country Premiere of 15 DAYS</strong></p>
<p><em>Tickets: $10 (with the opportunity to donate more) can be purchased at,&nbsp\;https://myphillytickets.com/e/bucks-country-premiere-of-15-days</em></p>
<p><strong>The Real Story of America's Pandemic School Closures</strong></p>
<p>They said 15 days to flatten the curve. Schools stayed closed for 500+ days.</p>
<p>15 DAYS is a forensic investigation into one of the greatest institutional failures in American history&mdash\;and a case study in how unchecked bureaucratic power can override science, parental authority, and the rule of law.</p>
<p>Join director Natalya Murakhver&mdash\;the NYC mother who sued Mayor de Blasio to reopen schools and co-founded Restore Childhood&mdash\;for this groundbreaking documentary featuring experts including NIH Director Dr. Jay Bhattacharya, Dr. Scott Atlas, and leading education scholars.</p>
<p>This film keeps the receipts. It traces how $189.5 billion in federal funds and teachers' union influence kept American children isolated longer than nearly any developed nation&mdash\;despite overwhelming scientific evidence to reopen. While other Western democracies prioritized educational continuity and children's wellbeing, American public institutions sacrificed a generation's learning and mental health to political expediency.</p>
<p>This is about institutional integrity. When special interests captured public policy and labeled concerned parents "domestic terrorists," they revealed something fundamental about the limits of state authority over family autonomy.</p>
<p>If we don't learn to identify the systems that enabled this, we won't recognize similar patterns of institutional capture in the future.</p>
<p>The film examines the most powerful forces reshaping American education, our children's minds and the future of this country.&nbsp\;</p>
<p><strong>The questions this film answers</strong>:&nbsp\;</p>
<ul>
<li>Who bears responsibility for keeping America's schools closed and why did they do it?</li>
<li>What is their connection to the activist organizations that have changed American society over the past six years and how do we take our country back?</li>
</ul>
<p><strong>Event Schedule</strong></p>
<p>2:00 PM &ndash\; Film Screening</p>
<p>3:15 PM &ndash\; Panel Discussion<br /><strong><em>Hosted by Dawn Stensland, Emmy Award-winning journalist, news anchor, and host of The Dawn Stensland Show.</em></strong><br /><em>Featuring:</em><br />&bull\; Natalya Murakhver<br />&bull\; Paul Martino<br />&bull\; Vanessa Martino<br />&bull\; Beth Ann Rosica</p>
<p>Following the panel &ndash\; Networking Reception<br />Enjoy light snacks and a cash bar while connecting with fellow attendees.</p>
<p><strong>For more information visit&nbsp\;<a href="https://www.15daysfilm.com/">www.15daysfilm.com</a>.</strong></p>
<p>&nbsp\;</p>
<p>&nbsp\;</p>
<p>&nbsp\;</p></div><div>--- This iCal file does *NOT* confirm registration.Event details subject to change. ---</div><div>--- Tendenci&reg\; Software by <a href="https://www.tendenci.com">tendenci.com</a> - The Open Source AMS for Associations ---</div>
SUMMARY:Bucks County Movie Premiere 15 Days
PRIORITY:5
CLASS:PUBLIC
BEGIN:VALARM
TRIGGER:-PT30M
ACTION:DISPLAY
DESCRIPTION:Reminder
END:VALARM
END:VEVENT
END:VCALENDAR
